BEGIN:VCALENDAR
VERSION:2.0
PRODID:EVENTFROG//EVENT//ICAL
BEGIN:VEVENT
UID:20260425T210229Z-7453357145221795598@eventfrog.ch
DTSTAMP:20260425T210229Z
DTSTART:20260508T100000Z
DTEND:20260508T113000Z
SUMMARY:CULTIBO Zmittag - Südindische Spezialitäten
DESCRIPTION:Freiwillige servieren ein hausgemachtes südindisches Zmittag mit Butterchicken, Kümmelreis und Dessert im Quartier.\n\nhttps://eventfrog.ch/de/p/essen-trinken/cultibo-zmittag-suedindische-spezialitaeten-7453357145221795598.html
LOCATION:Begegnungszentrum Cultibo Olten
GEO:47.348558;7.911959
URL:https://eventfrog.ch/de/p/essen-trinken/cultibo-zmittag-suedindische-spezialitaeten-7453357145221795598.html
END:VEVENT
END:VCALENDAR