BEGIN:VCALENDAR
VERSION:2.0
PRODID:EVENTFROG//EVENT//ICAL
BEGIN:VEVENT
UID:20260426T022731Z-7453361295162639311@eventfrog.ch
DTSTAMP:20260426T022731Z
DTSTART:20260430T150000Z
DTEND:20260430T210000Z
SUMMARY:11. Streetfooddays Bülach
DESCRIPTION:Vier Tage Streetfood mit Gerichten aus aller Welt und Live-Musik auf dem Lindenhof Bülach laden zum gemeinsamen Schlemmen ein.\n\nhttps://eventfrog.ch/de/p/essen-trinken/11-streetfooddays-buelach-7453361295162639311.html
LOCATION:Lindenhof
GEO:47.520115;8.538807
URL:https://eventfrog.ch/de/p/essen-trinken/11-streetfooddays-buelach-7453361295162639311.html
END:VEVENT
END:VCALENDAR