BEGIN:VCALENDAR
VERSION:2.0
PRODID:EVENTFROG//EVENT//ICAL
BEGIN:VEVENT
UID:20260424T160218Z-7453372681066391270@eventfrog.ch
DTSTAMP:20260424T160218Z
DTSTART:20260620T120000Z
DTEND:20260620T170000Z
SUMMARY:Summer-Kunschti
DESCRIPTION:Die Summer-Kunschti Margarethen geht in die nächste Runde! Entdecke eine bunte Welt aus Sport, Spiel und Spass. Spielmaterial kann vor Ort gegen ein Pfand ausgeliehen oder selber mitgebracht werden.\n\nhttps://eventfrog.ch/de/p/kinderveranstaltungen/familienveranstaltungen/summer-kunschti-7453372681066391270.html
LOCATION:Kunsteisbahn Margarethen
GEO:47.540713;7.586089
URL:https://eventfrog.ch/de/p/kinderveranstaltungen/familienveranstaltungen/summer-kunschti-7453372681066391270.html
END:VEVENT
END:VCALENDAR