BEGIN:VCALENDAR
VERSION:2.0
PRODID:EVENTFROG//EVENT//ICAL
BEGIN:VEVENT
UID:20260424T160239Z-7453375193718720149@eventfrog.ch
DTSTAMP:20260424T160239Z
DTSTART:20260723T120000Z
DTEND:20260723T180000Z
SUMMARY:Summer-Kunschti
DESCRIPTION:Entdecke eine bunte Welt aus Sport, Spiel und Spass auf der Kunsteisbahn Margarethen. Heute mit Grill - Grill vorhanden, Essen & Trinken selber mitbringen.\n\nhttps://eventfrog.ch/de/p/kinderveranstaltungen/familienveranstaltungen/summer-kunschti-7453375193718720149.html
LOCATION:Kunsteisbahn Margarethen
GEO:47.540713;7.586089
URL:https://eventfrog.ch/de/p/kinderveranstaltungen/familienveranstaltungen/summer-kunschti-7453375193718720149.html
END:VEVENT
END:VCALENDAR