BEGIN:VCALENDAR
VERSION:2.0
PRODID:EVENTFROG//EVENT//ICAL
BEGIN:VEVENT
UID:20260425T231432Z-7453376244836470273@eventfrog.ch
DTSTAMP:20260425T231432Z
DTSTART:20261219T200000Z
DTEND:20261220T010000Z
SUMMARY:POPCORN HITS-PARTY THUN
DESCRIPTION:POPCORN HITS-PARTY – Die ultimative 80er, 90er & 2000er Party! \nErlebe die besten Partyhits aus den 80ern, 90ern und 2000ern mit DJ Maik Wisler!\n\nhttps://eventfrog.ch/de/p/partys/disco/popcorn-hits-party-thun-7453376244836470273.html
LOCATION:Staatsstrasse 104
GEO:46.743892;7.647908
URL:https://eventfrog.ch/de/p/partys/disco/popcorn-hits-party-thun-7453376244836470273.html
END:VEVENT
END:VCALENDAR