BEGIN:VCALENDAR
VERSION:2.0
PRODID:EVENTFROG//EVENT//ICAL
BEGIN:VEVENT
UID:20260424T212217Z-7453387813804894528@eventfrog.ch
DTSTAMP:20260424T212217Z
DTSTART:20260521T170000Z
SUMMARY:Best of Krimis und viele Anekdoten
DESCRIPTION:Gabriela Kasperski kommt mit «Best of Krimis …» in die Krienser Bibliothek – ein abwechslungsreicher und spannender Abend erwartet Sie.\n\nhttps://eventfrog.ch/de/p/theater-buehne/lesung/best-of-krimis-und-viele-anekdoten-7453387813804894528.html
LOCATION:Stadtbibliothek Kriens
GEO:47.033218;8.282168
URL:https://eventfrog.ch/de/p/theater-buehne/lesung/best-of-krimis-und-viele-anekdoten-7453387813804894528.html
END:VEVENT
END:VCALENDAR