BEGIN:VCALENDAR
VERSION:2.0
PRODID:EVENTFROG//EVENT//ICAL
BEGIN:VEVENT
UID:20260425T160751Z-7453412871013200166@eventfrog.ch
DTSTAMP:20260425T160751Z
DTSTART:20260515T170000Z
DTEND:20260515T210000Z
SUMMARY:Loopin'Lab Live Konzert
DESCRIPTION:Türöffnung 19.00h\nKonzertbeginn 21.00h\nTürkollekte\n\nhttps://eventfrog.ch/de/p/konzerte/weitere-musikrichtungen/loopin-lab-live-konzert-7453412871013200166.html
LOCATION:Muffis Nachtrestaurant
GEO:46.896600;8.245110
URL:https://eventfrog.ch/de/p/konzerte/weitere-musikrichtungen/loopin-lab-live-konzert-7453412871013200166.html
END:VEVENT
END:VCALENDAR