BEGIN:VCALENDAR
VERSION:2.0
PRODID:EVENTFROG//EVENT//ICAL
BEGIN:VEVENT
UID:20260424T170039Z-7453415647025878716@eventfrog.ch
DTSTAMP:20260424T170039Z
DTSTART:20270409T180000Z
DTEND:20270409T200000Z
SUMMARY:MUMMENSCHANZ sagt "adieu!"
DESCRIPTION:Abschiedstournee nach 55 Jahren Theatergeschichte!t \n\nhttps://eventfrog.ch/de/p/theater-buehne/theater/mummenschanz-sagt-adieu-7453415647025878716.html
LOCATION:KKThun
GEO:46.743241;7.629527
URL:https://eventfrog.ch/de/p/theater-buehne/theater/mummenschanz-sagt-adieu-7453415647025878716.html
END:VEVENT
END:VCALENDAR