BEGIN:VCALENDAR
VERSION:2.0
PRODID:EVENTFROG//EVENT//ICAL
BEGIN:VEVENT
UID:20260424T170040Z-7453415867008743959@eventfrog.ch
DTSTAMP:20260424T170040Z
DTSTART:20270410T130000Z
DTEND:20270410T150000Z
SUMMARY:MUMMENSCHANZ sagt "adieu!"
DESCRIPTION:Abschiedstournee nach 55 Jahren Theatergeschichte!t \n\nhttps://eventfrog.ch/de/p/theater-buehne/theater/mummenschanz-sagt-adieu-7453415867008743959.html
LOCATION:KKThun
GEO:46.743241;7.629527
URL:https://eventfrog.ch/de/p/theater-buehne/theater/mummenschanz-sagt-adieu-7453415867008743959.html
END:VEVENT
END:VCALENDAR