BEGIN:VCALENDAR
VERSION:2.0
PRODID:EVENTFROG//EVENT//ICAL
BEGIN:VEVENT
UID:20260424T191209Z-7453424137253425105@eventfrog.ch
DTSTAMP:20260424T191209Z
DTSTART:20260507T120000Z
DTEND:20260507T130000Z
SUMMARY:hingeschaut. Kunst, Kaffee und Kuchen
DESCRIPTION:Die Werkbetrachtung "hingeschaut. Kunst, Kaffee und Kuchen" lädt zum Eintauchen in die Ausstellung "Hinterm Horizont geht's weiter!" ein und bietet bei Kuchen und Kaffee Gelegenheit zum Austausch.\n\nhttps://eventfrog.ch/de/p/kunst-ausstellungen/weitere-kunstveranstaltungen/hingeschaut-kunst-kaffee-und-kuchen-7453424137253425105.html
LOCATION:Kunstmuseum Olten
GEO:47.349985;7.901622
URL:https://eventfrog.ch/de/p/kunst-ausstellungen/weitere-kunstveranstaltungen/hingeschaut-kunst-kaffee-und-kuchen-7453424137253425105.html
END:VEVENT
END:VCALENDAR