BEGIN:VCALENDAR
VERSION:2.0
PRODID:EVENTFROG//EVENT//ICAL
BEGIN:VEVENT
UID:20260425T104220Z-7453427533586939778@eventfrog.ch
DTSTAMP:20260425T104220Z
DTSTART:20260507T183000Z
DTEND:20260507T193000Z
SUMMARY:Pavillonkonzert
DESCRIPTION:Gemütlicher Konzertabend mit bekannten Hits, gefühlvollen Melodien und mitreissenden Konzertstücken.\n\nhttps://eventfrog.ch/de/p/konzerte/blasmusik/pavillonkonzert-7453427533586939778.html
LOCATION:Pavillion Weggis
GEO:47.032011;8.434228
URL:https://eventfrog.ch/de/p/konzerte/blasmusik/pavillonkonzert-7453427533586939778.html
END:VEVENT
END:VCALENDAR