BEGIN:VCALENDAR
VERSION:2.0
PRODID:EVENTFROG//EVENT//ICAL
BEGIN:VEVENT
UID:20260425T214212Z-7453436295785797263@eventfrog.ch
DTSTAMP:20260425T214212Z
DTSTART:20260428T160000Z
SUMMARY:Kunst-Stadt-Spaziergang zu Oltens Bäckereien
DESCRIPTION:Kunst-Stadt-Spaziergang zum Thema "Oltens Bäckereien – Alte Tradition. Frisches Brot?" mit dem in Olten gebürtigen Bäckermeister Philipp Eng aus Niedergösgen. Ausklang mit "Chöbu"\n\nhttps://eventfrog.ch/de/p/fuehrungen-vortraege/stadtfuehrung/kunst-stadt-spaziergang-zu-oltens-baeckereien-7453436295785797263.html
LOCATION:Kunstmuseum Olten
GEO:47.349985;7.901622
URL:https://eventfrog.ch/de/p/fuehrungen-vortraege/stadtfuehrung/kunst-stadt-spaziergang-zu-oltens-baeckereien-7453436295785797263.html
END:VEVENT
END:VCALENDAR