BEGIN:VCALENDAR
VERSION:2.0
PRODID:EVENTFROG//EVENT//ICAL
BEGIN:VEVENT
UID:20260426T010447Z-7453438317905903257@eventfrog.ch
DTSTAMP:20260426T010447Z
DTSTART:20260508T160000Z
DTEND:20260508T180000Z
SUMMARY:SPIGAR Würdigung seines Schaffens
DESCRIPTION:Der bekannte Rheintaler Künstler SPIGAR stellt im Kulturraum Stellwerk Heerbrugg aus. Unverkennbar sind seine tanzenden Figuren.\n\nhttps://eventfrog.ch/de/p/kunst-ausstellungen/kultur/spigar-wuerdigung-seines-schaffens-7453438317905903257.html
LOCATION:Kulturraum Stellwerk Heerbrugg
GEO:47.411361;9.629330
URL:https://eventfrog.ch/de/p/kunst-ausstellungen/kultur/spigar-wuerdigung-seines-schaffens-7453438317905903257.html
END:VEVENT
END:VCALENDAR