BEGIN:VCALENDAR
VERSION:2.0
PRODID:EVENTFROG//EVENT//ICAL
BEGIN:VEVENT
UID:20260424T211537Z-7453438805044908400@eventfrog.ch
DTSTAMP:20260424T211537Z
DTSTART:20260509T090000Z
DTEND:20260509T160000Z
SUMMARY:Sammlung Martin und Veronika Burckhardt
DESCRIPTION:Sammlung Martin und Veronika Burckhardt - Von privaten Schätzen und öffentlichem Engagement\nMit Werken der Erbengemeinschaft sowie aus dem Karl August Burckhardt-Koechlin-Fonds im Kupferstichkabinett\n\nhttps://eventfrog.ch/de/p/kunst-ausstellungen/ausstellung/sammlung-martin-und-veronika-burckhardt-7453438805044908400.html
LOCATION:FOR ART - eine temporäre Kunstintervention von Littmann Kulturprojekte
GEO:47.555291;7.593660
URL:https://eventfrog.ch/de/p/kunst-ausstellungen/ausstellung/sammlung-martin-und-veronika-burckhardt-7453438805044908400.html
END:VEVENT
END:VCALENDAR