BEGIN:VCALENDAR
VERSION:2.0
PRODID:EVENTFROG//EVENT//ICAL
BEGIN:VEVENT
UID:20260426T010431Z-7453443349791394549@eventfrog.ch
DTSTAMP:20260426T010431Z
DTSTART:20260509T150000Z
DTEND:20260509T180000Z
SUMMARY:Kunstausstellung "Energiefluss" Jeannette Engel
DESCRIPTION:Die Kulturschüür Männedorf zeigt vom 9. bis 24. Mai Jeannette Engels abstrakte Malerei «Energiefluss».\n\nhttps://eventfrog.ch/de/p/kunst-ausstellungen/vernissage/kunstausstellung-energiefluss-jeannette-engel-7453443349791394549.html
LOCATION:Kulturschür Männedorf
GEO:47.253938;8.693797
URL:https://eventfrog.ch/de/p/kunst-ausstellungen/vernissage/kunstausstellung-energiefluss-jeannette-engel-7453443349791394549.html
END:VEVENT
END:VCALENDAR