BEGIN:VCALENDAR
VERSION:2.0
PRODID:EVENTFROG//EVENT//ICAL
BEGIN:VEVENT
UID:20260424T194248Z-7453443760921286431@eventfrog.ch
DTSTAMP:20260424T194248Z
DTSTART:20260502T080000Z
DTEND:20260502T150000Z
SUMMARY:Hinterm Horizont geht's weiter!
DESCRIPTION:In der Gruppenausstellung "Hinterm Horizont geht's weiter!", die einen Song-Titel von Udo Lindenberg aufgreift, beschäftigen sich 55 zeitgenössische Kunstschaffende mit dem Zustand der Welt.\n\nhttps://eventfrog.ch/de/p/kunst-ausstellungen/ausstellung/hinterm-horizont-geht-s-weiter-7453443760921286431.html
LOCATION:Kunstmuseum Olten
GEO:47.349985;7.901622
URL:https://eventfrog.ch/de/p/kunst-ausstellungen/ausstellung/hinterm-horizont-geht-s-weiter-7453443760921286431.html
END:VEVENT
END:VCALENDAR