BEGIN:VCALENDAR
VERSION:2.0
PRODID:EVENTFROG//EVENT//ICAL
BEGIN:VEVENT
UID:20260424T194245Z-7453443762221520713@eventfrog.ch
DTSTAMP:20260424T194245Z
DTSTART:20260524T080000Z
DTEND:20260524T150000Z
SUMMARY:Hinterm Horizont geht's weiter!
DESCRIPTION:In der Gruppenausstellung "Hinterm Horizont geht's weiter!", die einen Song-Titel von Udo Lindenberg aufgreift, beschäftigen sich 55 zeitgenössische Kunstschaffende mit dem Zustand der Welt.\n\nhttps://eventfrog.ch/de/p/kunst-ausstellungen/ausstellung/hinterm-horizont-geht-s-weiter-7453443762221520713.html
LOCATION:Kunstmuseum Olten
GEO:47.349985;7.901622
URL:https://eventfrog.ch/de/p/kunst-ausstellungen/ausstellung/hinterm-horizont-geht-s-weiter-7453443762221520713.html
END:VEVENT
END:VCALENDAR