BEGIN:VCALENDAR
VERSION:2.0
PRODID:EVENTFROG//EVENT//ICAL
BEGIN:VEVENT
UID:20260426T041316Z-7453463168880215374@eventfrog.ch
DTSTAMP:20260426T041316Z
DTSTART:20260620T120000Z
DTEND:20260620T160000Z
SUMMARY:Sommerfest
DESCRIPTION:Das Sommerfest bietet Band, Showacts, Gottesdienst, Ponyreiten, Hüpfburg, Karaoke und vieles mehr für die ganze Familie.\n\nhttps://eventfrog.ch/de/p/volksfeste/sommerfest/sommerfest-7453463168880215374.html
LOCATION:Die "Heilse"
GEO:50.835787;12.894071
URL:https://eventfrog.ch/de/p/volksfeste/sommerfest/sommerfest-7453463168880215374.html
END:VEVENT
END:VCALENDAR