BEGIN:VCALENDAR
VERSION:2.0
PRODID:EVENTFROG//EVENT//ICAL
BEGIN:VEVENT
UID:20260425T124814Z-7453517838025809926@eventfrog.ch
DTSTAMP:20260425T124814Z
DTSTART:20260503T180000Z
DTEND:20260503T210000Z
SUMMARY:Ruins of Perception & Defamed & Before the Decay
DESCRIPTION:RUINS OF PERCEPTION spielen am 3. März exklusiv in Basel mit DEFAMED & BEFORE THE DECAY im Valhalla Bar. Türen 18.00h, Start 19.00h.\n\nhttps://eventfrog.ch/de/p/konzerte/hard-rock-heavy-metal/ruins-of-perception-defamed-before-the-decay-7453517838025809926.html
LOCATION:Valhalla Basel
GEO:47.553158;7.585873
URL:https://eventfrog.ch/de/p/konzerte/hard-rock-heavy-metal/ruins-of-perception-defamed-before-the-decay-7453517838025809926.html
END:VEVENT
END:VCALENDAR