BEGIN:VCALENDAR
VERSION:2.0
PRODID:EVENTFROG//EVENT//ICAL
BEGIN:VEVENT
UID:20260426T042059Z-7453748266858978880@eventfrog.ch
DTSTAMP:20260426T042059Z
DTSTART:20260501T180000Z
DTEND:20260501T193000Z
SUMMARY:Irish Comedy Night - With John O'Keeffe
DESCRIPTION:Join us at In Bern, for a one time only performace of the hit show “Functional Mess”, with award-winning stand-up John O’Keeffe, one of the top comedians in Ireland! \n\nhttps://eventfrog.ch/en/p/theatre-stage/comedy-cabaret/irish-comedy-night-with-john-o-keeffe-7453748266858978880.html
LOCATION:Les Amis
GEO:46.948399;7.448710
URL:https://eventfrog.ch/en/p/theatre-stage/comedy-cabaret/irish-comedy-night-with-john-o-keeffe-7453748266858978880.html
END:VEVENT
END:VCALENDAR