BEGIN:VCALENDAR
VERSION:2.0
PRODID:EVENTFROG//EVENT//ICAL
BEGIN:VEVENT
UID:20260425T233201Z-7453750100684196868@eventfrog.ch
DTSTAMP:20260425T233201Z
DTSTART:20260502T170000Z
DTEND:20260502T180000Z
SUMMARY:Irish Comedy Night - With John O'Keeffe
DESCRIPTION:One of Ireland's top comedians brings his HIT Edinburgh Fringe show to Basel for one night only! Sold out show 2025!\n\n\n\nhttps://eventfrog.ch/en/p/theatre-stage/comedy-cabaret/irish-comedy-night-with-john-o-keeffe-7453750100684196868.html
LOCATION:The Beast Comedy Club
GEO:47.556046;7.589448
URL:https://eventfrog.ch/en/p/theatre-stage/comedy-cabaret/irish-comedy-night-with-john-o-keeffe-7453750100684196868.html
END:VEVENT
END:VCALENDAR