BEGIN:VCALENDAR
VERSION:2.0
PRODID:EVENTFROG//EVENT//ICAL
BEGIN:VEVENT
UID:20260426T035006Z-7453763571685577978@eventfrog.ch
DTSTAMP:20260426T035006Z
DTSTART:20260523T070000Z
DTEND:20260523T100000Z
SUMMARY:Standaktion HEV Birmensdorf-Uitikon-Aesch
DESCRIPTION:Stand zu HEV-Wohneigentums-Initiative mit Vorstand Peter Hofstetter\n\nhttps://eventfrog.ch/de/p/politik-gemeinde/politik/standaktion-hev-birmensdorf-uitikon-aesch-7453763571685577978.html
LOCATION:neben Volg Aesch
GEO:47.337331;8.438675
URL:https://eventfrog.ch/de/p/politik-gemeinde/politik/standaktion-hev-birmensdorf-uitikon-aesch-7453763571685577978.html
END:VEVENT
END:VCALENDAR