BEGIN:VCALENDAR
VERSION:2.0
PRODID:EVENTFROG//EVENT//ICAL
BEGIN:VEVENT
UID:20260426T043515Z-7453764391604901893@eventfrog.ch
DTSTAMP:20260426T043515Z
DTSTART:20260517T180000Z
DTEND:20260517T213000Z
SUMMARY:Open Mic L J Fox (Open Mic for music & more)
DESCRIPTION:Open Mic gibt einen Einblick in die vielfältige, internationale Musikszene Berlins in einer der originellsten Bars in Kreuzberg\n\nhttps://eventfrog.ch/de/p/konzerte/indie-alternative/open-mic-l-j-fox-open-mic-for-music-more-7453764391604901893.html
LOCATION:Madame Claude
GEO:52.499615;13.437326
URL:https://eventfrog.ch/de/p/konzerte/indie-alternative/open-mic-l-j-fox-open-mic-for-music-more-7453764391604901893.html
END:VEVENT
END:VCALENDAR