BEGIN:VCALENDAR
VERSION:2.0
PRODID:EVENTFROG//EVENT//ICAL
BEGIN:VEVENT
UID:20260426T041316Z-7453770176372188270@eventfrog.ch
DTSTAMP:20260426T041316Z
DTSTART:20260530T070000Z
DTEND:20260530T200000Z
SUMMARY:Regionales Akkordeon-Musikfest Rorschach
DESCRIPTION:Das Regionale Akkordeon-Musikfest mit Wettspielen, Platzkonzerten und kulinarischen Angeboten findet an der PH Mariaberg Rorschach statt.\n\nhttps://eventfrog.ch/de/p/konzerte/weitere-musikrichtungen/regionales-akkordeon-musikfest-rorschach-7453770176372188270.html
LOCATION:Pädagogische Hochschule St.Gallen (PHSG), Hochschulgebäude Mariaberg
GEO:47.472170;9.494980
URL:https://eventfrog.ch/de/p/konzerte/weitere-musikrichtungen/regionales-akkordeon-musikfest-rorschach-7453770176372188270.html
END:VEVENT
END:VCALENDAR