BEGIN:VCALENDAR
VERSION:2.0
PRODID:EVENTFROG//EVENT//ICAL
BEGIN:VEVENT
UID:20260425T194331Z-7453791294365671217@eventfrog.ch
DTSTAMP:20260425T194331Z
DTSTART:20260801T070000Z
DTEND:20260801T113000Z
SUMMARY:1. August Brunch - Sonnenböhl Herisau
DESCRIPTION:Geniessen Sie am 1. August einen Brunch mit Live-Musik und Kidz Zone beim Hofladen Sonnenböhl in Herisau.\n\nhttps://eventfrog.ch/de/p/essen-trinken/1-august-brunch-sonnenboehl-herisau-7453791294365671217.html
LOCATION:Hofladen Sonnenböhl
GEO:47.393572;9.274367
URL:https://eventfrog.ch/de/p/essen-trinken/1-august-brunch-sonnenboehl-herisau-7453791294365671217.html
END:VEVENT
END:VCALENDAR