BEGIN:VCALENDAR
VERSION:2.0
PRODID:EVENTFROG//EVENT//ICAL
BEGIN:VEVENT
UID:20260425T221627Z-7453799630364528537@eventfrog.ch
DTSTAMP:20260425T221627Z
DTSTART:20260619T170000Z
DTEND:20260619T181500Z
SUMMARY:«Verbundenheit» in Gesellschaft, Glaubens- und Kulturräumen
DESCRIPTION:Ein Podium im Rahmen des KIN-Festival mit Gäst*innen aus Literatur, Kirche und Aktivismus zum Thema Verbundenheit im gesellschaftlichen Diskurs.\n\nhttps://eventfrog.ch/de/p/festivals/kunst-kultur/verbundenheit-in-gesellschaft-glaubens-und-kulturraeumen-7453799630364528537.html
LOCATION:Karl der Grosse
GEO:47.370552;8.545169
URL:https://eventfrog.ch/de/p/festivals/kunst-kultur/verbundenheit-in-gesellschaft-glaubens-und-kulturraeumen-7453799630364528537.html
END:VEVENT
END:VCALENDAR