BEGIN:VCALENDAR
VERSION:2.0
PRODID:EVENTFROG//EVENT//ICAL
BEGIN:VEVENT
UID:20260426T012732Z-7453880907012796616@eventfrog.ch
DTSTAMP:20260426T012732Z
DTSTART:20260516T210000Z
SUMMARY:I <3 Reggaeton - La plus grosse soirée Reggaeton à Bulle
DESCRIPTION:Le samedi 16 mai, I <3 Reggaeton débarque au Globull pour la première édition à Bulle. 150 premiers billets offerts !\n\nhttps://eventfrog.ch/fr/p/soirees-fetes/latino-bresil/i-3-reggaeton-la-plus-grosse-soiree-reggaeton-a-bulle-7453880907012796616.html
LOCATION:GLOBULL
GEO:46.624500;7.066020
URL:https://eventfrog.ch/fr/p/soirees-fetes/latino-bresil/i-3-reggaeton-la-plus-grosse-soiree-reggaeton-a-bulle-7453880907012796616.html
END:VEVENT
END:VCALENDAR