BEGIN:VCALENDAR
VERSION:2.0
PRODID:EVENTFROG//EVENT//ICAL
BEGIN:VEVENT
UID:20260426T025653Z-7453924714664166942@eventfrog.ch
DTSTAMP:20260426T025653Z
DTSTART:20260429T170000Z
DTEND:20260429T180000Z
SUMMARY:Tier des Jahres 2026 – Pro Natura: Der Igel - Nachbar und Wi
DESCRIPTION:Tier des Jahres 2026 - Pro Natura: Der Igel - Nachbar und Wildtier\n\nhttps://eventfrog.ch/de/p/wissenschaft-und-technik/tier-des-jahres-2026-pro-natura-der-igel-nachbar-und-wi-7453924714664166942.html
LOCATION:Naturmuseum St.Gallen
GEO:47.439470;9.408700
URL:https://eventfrog.ch/de/p/wissenschaft-und-technik/tier-des-jahres-2026-pro-natura-der-igel-nachbar-und-wi-7453924714664166942.html
END:VEVENT
END:VCALENDAR