BEGIN:VCALENDAR
VERSION:2.0
PRODID:EVENTFROG//EVENT//ICAL
BEGIN:VEVENT
UID:20260426T033803Z-7453925784895389119@eventfrog.ch
DTSTAMP:20260426T033803Z
DTSTART:20260511T180000Z
SUMMARY:Unterm Milchwald - ein Stück für Stimmen
DESCRIPTION:Unterm Milchwald - ein Stück für Stimmen\n\nhttps://eventfrog.ch/de/p/theater-buehne/unterm-milchwald-ein-stueck-fuer-stimmen-7453925784895389119.html
LOCATION:Zimmer-Theater Ariane
GEO:47.508887;8.723156
URL:https://eventfrog.ch/de/p/theater-buehne/unterm-milchwald-ein-stueck-fuer-stimmen-7453925784895389119.html
END:VEVENT
END:VCALENDAR