BEGIN:VCALENDAR
VERSION:2.0
PRODID:EVENTFROG//EVENT//ICAL
BEGIN:VEVENT
UID:20260426T043515Z-7453926707222856376@eventfrog.ch
DTSTAMP:20260426T043515Z
DTSTART:20260518T080000Z
DTEND:20260518T090000Z
SUMMARY:Senior:innenturnen
DESCRIPTION:Senior:innenturnen\n\nhttps://eventfrog.ch/de/p/diverses/senior-innenturnen-7453926707222856376.html
LOCATION:Kirchgemeinde Haldenbüel
GEO:47.417503;9.248580
URL:https://eventfrog.ch/de/p/diverses/senior-innenturnen-7453926707222856376.html
END:VEVENT
END:VCALENDAR