BEGIN:VCALENDAR
VERSION:2.0
PRODID:EVENTFROG//EVENTGROUP//ICAL
BEGIN:VEVENT
UID:20260425T142630Z-7431657452775450604@eventfrog.ch
DTSTAMP:20260425T142630Z
DTSTART:20260426T120000Z
SUMMARY:Englische Tea Time mit Petits
DESCRIPTION:Britische Teekultur, fein serviert - ein Nachmittag auf englische Art. \n\nhttps://eventfrog.ch/de/p/essen-trinken/englische-tea-time-mit-petits-7431657452775450604.html
LOCATION:Van der Valk Golfhotel Serrahn
GEO:53.654357;12.344555
URL:https://eventfrog.ch/de/p/essen-trinken/englische-tea-time-mit-petits-7431657452775450604.html
END:VEVENT
BEGIN:VEVENT
UID:20260425T142630Z-7431657513357982425@eventfrog.ch
DTSTAMP:20260425T142630Z
DTSTART:20260628T120000Z
SUMMARY:Englische Tea Time mit Petits
DESCRIPTION:Britische Teekultur, fein serviert - ein Nachmittag auf englische Art. \n\nhttps://eventfrog.ch/de/p/essen-trinken/englische-tea-time-mit-petits-7431657513357982425.html
LOCATION:Van der Valk Golfhotel Serrahn
GEO:53.654357;12.344555
URL:https://eventfrog.ch/de/p/essen-trinken/englische-tea-time-mit-petits-7431657513357982425.html
END:VEVENT
BEGIN:VEVENT
UID:20260425T142630Z-7431657513513172311@eventfrog.ch
DTSTAMP:20260425T142630Z
DTSTART:20260726T120000Z
SUMMARY:Englische Tea Time mit Petits
DESCRIPTION:Britische Teekultur, fein serviert - ein Nachmittag auf englische Art. \n\nhttps://eventfrog.ch/de/p/essen-trinken/englische-tea-time-mit-petits-7431657513513172311.html
LOCATION:Van der Valk Golfhotel Serrahn
GEO:53.654357;12.344555
URL:https://eventfrog.ch/de/p/essen-trinken/englische-tea-time-mit-petits-7431657513513172311.html
END:VEVENT
BEGIN:VEVENT
UID:20260425T142630Z-7431657513634807155@eventfrog.ch
DTSTAMP:20260425T142630Z
DTSTART:20260823T120000Z
SUMMARY:Englische Tea Time mit Petits
DESCRIPTION:Britische Teekultur, fein serviert - ein Nachmittag auf englische Art. \n\nhttps://eventfrog.ch/de/p/essen-trinken/englische-tea-time-mit-petits-7431657513634807155.html
LOCATION:Van der Valk Golfhotel Serrahn
GEO:53.654357;12.344555
URL:https://eventfrog.ch/de/p/essen-trinken/englische-tea-time-mit-petits-7431657513634807155.html
END:VEVENT
BEGIN:VEVENT
UID:20260425T142630Z-7431657513769024938@eventfrog.ch
DTSTAMP:20260425T142630Z
DTSTART:20260927T120000Z
SUMMARY:Englische Tea Time mit Petits
DESCRIPTION:Britische Teekultur, fein serviert - ein Nachmittag auf englische Art. \n\nhttps://eventfrog.ch/de/p/essen-trinken/englische-tea-time-mit-petits-7431657513769024938.html
LOCATION:Van der Valk Golfhotel Serrahn
GEO:53.654357;12.344555
URL:https://eventfrog.ch/de/p/essen-trinken/englische-tea-time-mit-petits-7431657513769024938.html
END:VEVENT
BEGIN:VEVENT
UID:20260425T142630Z-7431657513899048376@eventfrog.ch
DTSTAMP:20260425T142630Z
DTSTART:20261025T130000Z
SUMMARY:Englische Tea Time mit Petits
DESCRIPTION:Britische Teekultur, fein serviert - ein Nachmittag auf englische Art. \n\nhttps://eventfrog.ch/de/p/essen-trinken/englische-tea-time-mit-petits-7431657513899048376.html
LOCATION:Van der Valk Golfhotel Serrahn
GEO:53.654357;12.344555
URL:https://eventfrog.ch/de/p/essen-trinken/englische-tea-time-mit-petits-7431657513899048376.html
END:VEVENT
END:VCALENDAR