BEGIN:VCALENDAR
VERSION:2.0
PRODID:EVENTFROG//EVENTGROUP//ICAL
BEGIN:VEVENT
UID:20260425T163951Z-7438930676731114173@eventfrog.ch
DTSTAMP:20260425T163951Z
DTSTART:20260827T180000Z
DTEND:20260827T200000Z
SUMMARY:Gilbert & Oleg's Fahrieté
DESCRIPTION:Gilbert & Oleg präsentieren ihr neues Stück\n„Lehrgang für Hofnarren“.\nTheater, Magie, Musik & viel Humor!\n\nhttps://eventfrog.ch/de/p/theater-buehne/theater/gilbert-oleg-s-fahriete-7438930676731114173.html
LOCATION:Viehmarktplatz
GEO:46.940729;7.785500
URL:https://eventfrog.ch/de/p/theater-buehne/theater/gilbert-oleg-s-fahriete-7438930676731114173.html
END:VEVENT
BEGIN:VEVENT
UID:20260425T163951Z-7438930892960085598@eventfrog.ch
DTSTAMP:20260425T163951Z
DTSTART:20260828T180000Z
DTEND:20260828T200000Z
SUMMARY:Gilbert & Oleg's Fahrieté
DESCRIPTION:Gilbert & Oleg präsentieren ihr neues Stück\n„Lehrgang für Hofnarren“.\nTheater, Magie, Musik & viel Humor!\n\nhttps://eventfrog.ch/de/p/theater-buehne/theater/gilbert-oleg-s-fahriete-7438930892960085598.html
LOCATION:Viehmarktplatz
GEO:46.940729;7.785500
URL:https://eventfrog.ch/de/p/theater-buehne/theater/gilbert-oleg-s-fahriete-7438930892960085598.html
END:VEVENT
BEGIN:VEVENT
UID:20260425T163951Z-7438930893102692544@eventfrog.ch
DTSTAMP:20260425T163951Z
DTSTART:20260829T180000Z
DTEND:20260829T200000Z
SUMMARY:Gilbert & Oleg's Fahrieté
DESCRIPTION:Gilbert & Oleg präsentieren ihr neues Stück\n„Lehrgang für Hofnarren“.\nTheater, Magie, Musik & viel Humor!\n\nhttps://eventfrog.ch/de/p/theater-buehne/theater/gilbert-oleg-s-fahriete-7438930893102692544.html
LOCATION:Viehmarktplatz
GEO:46.940729;7.785500
URL:https://eventfrog.ch/de/p/theater-buehne/theater/gilbert-oleg-s-fahriete-7438930893102692544.html
END:VEVENT
BEGIN:VEVENT
UID:20260425T163951Z-7438930893228521682@eventfrog.ch
DTSTAMP:20260425T163951Z
DTSTART:20260830T170000Z
DTEND:20260830T190000Z
SUMMARY:Gilbert & Oleg's Fahrieté
DESCRIPTION:Gilbert & Oleg präsentieren ihr neues Stück\n„Lehrgang für Hofnarren“.\nTheater, Magie, Musik & viel Humor!\n\nhttps://eventfrog.ch/de/p/theater-buehne/theater/gilbert-oleg-s-fahriete-7438930893228521682.html
LOCATION:Viehmarktplatz
GEO:46.940729;7.785500
URL:https://eventfrog.ch/de/p/theater-buehne/theater/gilbert-oleg-s-fahriete-7438930893228521682.html
END:VEVENT
END:VCALENDAR