BEGIN:VCALENDAR
VERSION:2.0
PRODID:EVENTFROG//EVENTGROUP//ICAL
BEGIN:VEVENT
UID:20260419T224554Z-7449691286284570122@eventfrog.ch
DTSTAMP:20260419T224554Z
DTSTART:20260610T071500Z
DTEND:20260610T080000Z
SUMMARY:Active City 2026: Eltern Kind Tanz (2-4J)
DESCRIPTION:Eltern und Kinder tanzen zusammen zu altersgerechter Musik und fördern spielerisch Motorik, Rhythmusgefühl und Bindung.\n\nhttps://eventfrog.ch/de/p/kinderveranstaltungen/familienveranstaltungen/active-city-2026-eltern-kind-tanz-2-4j-7449691286284570122.html
LOCATION:Dietikon Kirchhalde Park
GEO:47.401073;8.401884
URL:https://eventfrog.ch/de/p/kinderveranstaltungen/familienveranstaltungen/active-city-2026-eltern-kind-tanz-2-4j-7449691286284570122.html
END:VEVENT
BEGIN:VEVENT
UID:20260419T224554Z-7449691380790638926@eventfrog.ch
DTSTAMP:20260419T224554Z
DTSTART:20260617T071500Z
DTEND:20260617T080000Z
SUMMARY:Active City 2026: Eltern Kind Tanz (2-4J)
DESCRIPTION:Eltern und Kinder tanzen zusammen zu altersgerechter Musik und fördern spielerisch Motorik, Rhythmusgefühl und Bindung.\n\nhttps://eventfrog.ch/de/p/kinderveranstaltungen/familienveranstaltungen/active-city-2026-eltern-kind-tanz-2-4j-7449691380790638926.html
LOCATION:Dietikon Kirchhalde Park
GEO:47.401073;8.401884
URL:https://eventfrog.ch/de/p/kinderveranstaltungen/familienveranstaltungen/active-city-2026-eltern-kind-tanz-2-4j-7449691380790638926.html
END:VEVENT
END:VCALENDAR