BEGIN:VCALENDAR
VERSION:2.0
PRODID:EVENTFROG//EVENTGROUP//ICAL
BEGIN:VEVENT
UID:20260419T163348Z-7450535557870931621@eventfrog.ch
DTSTAMP:20260419T163348Z
DTSTART:20260626T080000Z
SUMMARY:Der Zauberer von Oz
DESCRIPTION:Der berühmte Kinderbuchklassiker hat in seiner 125-jährigen Geschichte die Kinoleinwände und auch die Theaterbühnen der Welt erobert.\n\nhttps://eventfrog.ch/de/p/theater-buehne/theater/der-zauberer-von-oz-7450535557870931621.html
LOCATION:Theater Schloss Maßbach - Unterfränkische Landesbühne
GEO:50.181256;10.281103
URL:https://eventfrog.ch/de/p/theater-buehne/theater/der-zauberer-von-oz-7450535557870931621.html
END:VEVENT
BEGIN:VEVENT
UID:20260419T163348Z-7450537005291681407@eventfrog.ch
DTSTAMP:20260419T163348Z
DTSTART:20260629T070000Z
SUMMARY:Der Zauberer von Oz
DESCRIPTION:Der berühmte Kinderbuchklassiker hat in seiner 125-jährigen Geschichte die Kinoleinwände und auch die Theaterbühnen der Welt erobert.\n\nhttps://eventfrog.ch/de/p/theater-buehne/theater/der-zauberer-von-oz-7450537005291681407.html
LOCATION:Theater Schloss Maßbach - Unterfränkische Landesbühne
GEO:50.181256;10.281103
URL:https://eventfrog.ch/de/p/theater-buehne/theater/der-zauberer-von-oz-7450537005291681407.html
END:VEVENT
BEGIN:VEVENT
UID:20260419T163348Z-7450537103564238951@eventfrog.ch
DTSTAMP:20260419T163348Z
DTSTART:20260629T083000Z
SUMMARY:Der Zauberer von Oz
DESCRIPTION:Der berühmte Kinderbuchklassiker hat in seiner 125-jährigen Geschichte die Kinoleinwände und auch die Theaterbühnen der Welt erobert.\n\nhttps://eventfrog.ch/de/p/theater-buehne/theater/der-zauberer-von-oz-7450537103564238951.html
LOCATION:Theater Schloss Maßbach - Unterfränkische Landesbühne
GEO:50.181256;10.281103
URL:https://eventfrog.ch/de/p/theater-buehne/theater/der-zauberer-von-oz-7450537103564238951.html
END:VEVENT
BEGIN:VEVENT
UID:20260419T163348Z-7450537165413452450@eventfrog.ch
DTSTAMP:20260419T163348Z
DTSTART:20260630T070000Z
SUMMARY:Der Zauberer von Oz
DESCRIPTION:Der berühmte Kinderbuchklassiker hat in seiner 125-jährigen Geschichte die Kinoleinwände und auch die Theaterbühnen der Welt erobert.\n\nhttps://eventfrog.ch/de/p/theater-buehne/theater/der-zauberer-von-oz-7450537165413452450.html
LOCATION:Theater Schloss Maßbach - Unterfränkische Landesbühne
GEO:50.181256;10.281103
URL:https://eventfrog.ch/de/p/theater-buehne/theater/der-zauberer-von-oz-7450537165413452450.html
END:VEVENT
BEGIN:VEVENT
UID:20260419T163348Z-7450537201639658188@eventfrog.ch
DTSTAMP:20260419T163348Z
DTSTART:20260630T083000Z
SUMMARY:Der Zauberer von Oz
DESCRIPTION:Der berühmte Kinderbuchklassiker hat in seiner 125-jährigen Geschichte die Kinoleinwände und auch die Theaterbühnen der Welt erobert.\n\nhttps://eventfrog.ch/de/p/theater-buehne/theater/der-zauberer-von-oz-7450537201639658188.html
LOCATION:Theater Schloss Maßbach - Unterfränkische Landesbühne
GEO:50.181256;10.281103
URL:https://eventfrog.ch/de/p/theater-buehne/theater/der-zauberer-von-oz-7450537201639658188.html
END:VEVENT
BEGIN:VEVENT
UID:20260419T163348Z-7450537252092943723@eventfrog.ch
DTSTAMP:20260419T163348Z
DTSTART:20260701T070000Z
SUMMARY:Der Zauberer von Oz
DESCRIPTION:Der berühmte Kinderbuchklassiker hat in seiner 125-jährigen Geschichte die Kinoleinwände und auch die Theaterbühnen der Welt erobert.\n\nhttps://eventfrog.ch/de/p/theater-buehne/theater/der-zauberer-von-oz-7450537252092943723.html
LOCATION:Theater Schloss Maßbach - Unterfränkische Landesbühne
GEO:50.181256;10.281103
URL:https://eventfrog.ch/de/p/theater-buehne/theater/der-zauberer-von-oz-7450537252092943723.html
END:VEVENT
BEGIN:VEVENT
UID:20260419T163348Z-7450537329465272967@eventfrog.ch
DTSTAMP:20260419T163348Z
DTSTART:20260701T083000Z
SUMMARY:Der Zauberer von Oz
DESCRIPTION:Der berühmte Kinderbuchklassiker hat in seiner 125-jährigen Geschichte die Kinoleinwände und auch die Theaterbühnen der Welt erobert.\n\nhttps://eventfrog.ch/de/p/theater-buehne/theater/der-zauberer-von-oz-7450537329465272967.html
LOCATION:Theater Schloss Maßbach - Unterfränkische Landesbühne
GEO:50.181256;10.281103
URL:https://eventfrog.ch/de/p/theater-buehne/theater/der-zauberer-von-oz-7450537329465272967.html
END:VEVENT
BEGIN:VEVENT
UID:20260419T163348Z-7450537426022353682@eventfrog.ch
DTSTAMP:20260419T163348Z
DTSTART:20260702T070000Z
SUMMARY:Der Zauberer von Oz
DESCRIPTION:Der berühmte Kinderbuchklassiker hat in seiner 125-jährigen Geschichte die Kinoleinwände und auch die Theaterbühnen der Welt erobert.\n\nhttps://eventfrog.ch/de/p/theater-buehne/theater/der-zauberer-von-oz-7450537426022353682.html
LOCATION:Theater Schloss Maßbach - Unterfränkische Landesbühne
GEO:50.181256;10.281103
URL:https://eventfrog.ch/de/p/theater-buehne/theater/der-zauberer-von-oz-7450537426022353682.html
END:VEVENT
BEGIN:VEVENT
UID:20260419T163348Z-7450537463271970717@eventfrog.ch
DTSTAMP:20260419T163348Z
DTSTART:20260702T083000Z
SUMMARY:Der Zauberer von Oz
DESCRIPTION:Der berühmte Kinderbuchklassiker hat in seiner 125-jährigen Geschichte die Kinoleinwände und auch die Theaterbühnen der Welt erobert.\n\nhttps://eventfrog.ch/de/p/theater-buehne/theater/der-zauberer-von-oz-7450537463271970717.html
LOCATION:Theater Schloss Maßbach - Unterfränkische Landesbühne
GEO:50.181256;10.281103
URL:https://eventfrog.ch/de/p/theater-buehne/theater/der-zauberer-von-oz-7450537463271970717.html
END:VEVENT
BEGIN:VEVENT
UID:20260419T163348Z-7450537912351876527@eventfrog.ch
DTSTAMP:20260419T163348Z
DTSTART:20260703T070000Z
SUMMARY:Der Zauberer von Oz
DESCRIPTION:Der berühmte Kinderbuchklassiker hat in seiner 125-jährigen Geschichte die Kinoleinwände und auch die Theaterbühnen der Welt erobert.\n\nhttps://eventfrog.ch/de/p/theater-buehne/theater/der-zauberer-von-oz-7450537912351876527.html
LOCATION:Theater Schloss Maßbach - Unterfränkische Landesbühne
GEO:50.181256;10.281103
URL:https://eventfrog.ch/de/p/theater-buehne/theater/der-zauberer-von-oz-7450537912351876527.html
END:VEVENT
BEGIN:VEVENT
UID:20260419T163348Z-7450537964357059755@eventfrog.ch
DTSTAMP:20260419T163348Z
DTSTART:20260703T083000Z
SUMMARY:Der Zauberer von Oz
DESCRIPTION:Der berühmte Kinderbuchklassiker hat in seiner 125-jährigen Geschichte die Kinoleinwände und auch die Theaterbühnen der Welt erobert.\n\nhttps://eventfrog.ch/de/p/theater-buehne/theater/der-zauberer-von-oz-7450537964357059755.html
LOCATION:Theater Schloss Maßbach - Unterfränkische Landesbühne
GEO:50.181256;10.281103
URL:https://eventfrog.ch/de/p/theater-buehne/theater/der-zauberer-von-oz-7450537964357059755.html
END:VEVENT
BEGIN:VEVENT
UID:20260419T163348Z-7450538067893463199@eventfrog.ch
DTSTAMP:20260419T163348Z
DTSTART:20260706T070000Z
SUMMARY:Der Zauberer von Oz
DESCRIPTION:Der berühmte Kinderbuchklassiker hat in seiner 125-jährigen Geschichte die Kinoleinwände und auch die Theaterbühnen der Welt erobert.\n\nhttps://eventfrog.ch/de/p/theater-buehne/theater/der-zauberer-von-oz-7450538067893463199.html
LOCATION:Theater Schloss Maßbach - Unterfränkische Landesbühne
GEO:50.181256;10.281103
URL:https://eventfrog.ch/de/p/theater-buehne/theater/der-zauberer-von-oz-7450538067893463199.html
END:VEVENT
BEGIN:VEVENT
UID:20260419T163348Z-7450538018543278535@eventfrog.ch
DTSTAMP:20260419T163348Z
DTSTART:20260706T083000Z
SUMMARY:Der Zauberer von Oz
DESCRIPTION:Der berühmte Kinderbuchklassiker hat in seiner 125-jährigen Geschichte die Kinoleinwände und auch die Theaterbühnen der Welt erobert.\n\nhttps://eventfrog.ch/de/p/theater-buehne/theater/der-zauberer-von-oz-7450538018543278535.html
LOCATION:Theater Schloss Maßbach - Unterfränkische Landesbühne
GEO:50.181256;10.281103
URL:https://eventfrog.ch/de/p/theater-buehne/theater/der-zauberer-von-oz-7450538018543278535.html
END:VEVENT
BEGIN:VEVENT
UID:20260419T163348Z-7450538123673514762@eventfrog.ch
DTSTAMP:20260419T163348Z
DTSTART:20260707T070000Z
SUMMARY:Der Zauberer von Oz
DESCRIPTION:Der berühmte Kinderbuchklassiker hat in seiner 125-jährigen Geschichte die Kinoleinwände und auch die Theaterbühnen der Welt erobert.\n\nhttps://eventfrog.ch/de/p/theater-buehne/theater/der-zauberer-von-oz-7450538123673514762.html
LOCATION:Theater Schloss Maßbach - Unterfränkische Landesbühne
GEO:50.181256;10.281103
URL:https://eventfrog.ch/de/p/theater-buehne/theater/der-zauberer-von-oz-7450538123673514762.html
END:VEVENT
BEGIN:VEVENT
UID:20260419T163348Z-7450538184042139590@eventfrog.ch
DTSTAMP:20260419T163348Z
DTSTART:20260707T083000Z
SUMMARY:Der Zauberer von Oz
DESCRIPTION:Der berühmte Kinderbuchklassiker hat in seiner 125-jährigen Geschichte die Kinoleinwände und auch die Theaterbühnen der Welt erobert.\n\nhttps://eventfrog.ch/de/p/theater-buehne/theater/der-zauberer-von-oz-7450538184042139590.html
LOCATION:Theater Schloss Maßbach - Unterfränkische Landesbühne
GEO:50.181256;10.281103
URL:https://eventfrog.ch/de/p/theater-buehne/theater/der-zauberer-von-oz-7450538184042139590.html
END:VEVENT
BEGIN:VEVENT
UID:20260419T163348Z-7450538271942178193@eventfrog.ch
DTSTAMP:20260419T163348Z
DTSTART:20260708T070000Z
SUMMARY:Der Zauberer von Oz
DESCRIPTION:Der berühmte Kinderbuchklassiker hat in seiner 125-jährigen Geschichte die Kinoleinwände und auch die Theaterbühnen der Welt erobert.\n\nhttps://eventfrog.ch/de/p/theater-buehne/theater/der-zauberer-von-oz-7450538271942178193.html
LOCATION:Theater Schloss Maßbach - Unterfränkische Landesbühne
GEO:50.181256;10.281103
URL:https://eventfrog.ch/de/p/theater-buehne/theater/der-zauberer-von-oz-7450538271942178193.html
END:VEVENT
BEGIN:VEVENT
UID:20260419T163348Z-7450538234138913837@eventfrog.ch
DTSTAMP:20260419T163348Z
DTSTART:20260708T083000Z
SUMMARY:Der Zauberer von Oz
DESCRIPTION:Der berühmte Kinderbuchklassiker hat in seiner 125-jährigen Geschichte die Kinoleinwände und auch die Theaterbühnen der Welt erobert.\n\nhttps://eventfrog.ch/de/p/theater-buehne/theater/der-zauberer-von-oz-7450538234138913837.html
LOCATION:Theater Schloss Maßbach - Unterfränkische Landesbühne
GEO:50.181256;10.281103
URL:https://eventfrog.ch/de/p/theater-buehne/theater/der-zauberer-von-oz-7450538234138913837.html
END:VEVENT
BEGIN:VEVENT
UID:20260419T163348Z-7450538323251041240@eventfrog.ch
DTSTAMP:20260419T163348Z
DTSTART:20260709T070000Z
SUMMARY:Der Zauberer von Oz
DESCRIPTION:Der berühmte Kinderbuchklassiker hat in seiner 125-jährigen Geschichte die Kinoleinwände und auch die Theaterbühnen der Welt erobert.\n\nhttps://eventfrog.ch/de/p/theater-buehne/theater/der-zauberer-von-oz-7450538323251041240.html
LOCATION:Theater Schloss Maßbach - Unterfränkische Landesbühne
GEO:50.181256;10.281103
URL:https://eventfrog.ch/de/p/theater-buehne/theater/der-zauberer-von-oz-7450538323251041240.html
END:VEVENT
BEGIN:VEVENT
UID:20260419T163348Z-7450538361486319298@eventfrog.ch
DTSTAMP:20260419T163348Z
DTSTART:20260709T083000Z
SUMMARY:Der Zauberer von Oz
DESCRIPTION:Der berühmte Kinderbuchklassiker hat in seiner 125-jährigen Geschichte die Kinoleinwände und auch die Theaterbühnen der Welt erobert.\n\nhttps://eventfrog.ch/de/p/theater-buehne/theater/der-zauberer-von-oz-7450538361486319298.html
LOCATION:Theater Schloss Maßbach - Unterfränkische Landesbühne
GEO:50.181256;10.281103
URL:https://eventfrog.ch/de/p/theater-buehne/theater/der-zauberer-von-oz-7450538361486319298.html
END:VEVENT
BEGIN:VEVENT
UID:20260419T163348Z-7450538446223847516@eventfrog.ch
DTSTAMP:20260419T163348Z
DTSTART:20260710T070000Z
SUMMARY:Der Zauberer von Oz
DESCRIPTION:Der berühmte Kinderbuchklassiker hat in seiner 125-jährigen Geschichte die Kinoleinwände und auch die Theaterbühnen der Welt erobert.\n\nhttps://eventfrog.ch/de/p/theater-buehne/theater/der-zauberer-von-oz-7450538446223847516.html
LOCATION:Theater Schloss Maßbach - Unterfränkische Landesbühne
GEO:50.181256;10.281103
URL:https://eventfrog.ch/de/p/theater-buehne/theater/der-zauberer-von-oz-7450538446223847516.html
END:VEVENT
BEGIN:VEVENT
UID:20260419T163348Z-7450538416490424769@eventfrog.ch
DTSTAMP:20260419T163348Z
DTSTART:20260710T083000Z
SUMMARY:Der Zauberer von Oz
DESCRIPTION:Der berühmte Kinderbuchklassiker hat in seiner 125-jährigen Geschichte die Kinoleinwände und auch die Theaterbühnen der Welt erobert.\n\nhttps://eventfrog.ch/de/p/theater-buehne/theater/der-zauberer-von-oz-7450538416490424769.html
LOCATION:Theater Schloss Maßbach - Unterfränkische Landesbühne
GEO:50.181256;10.281103
URL:https://eventfrog.ch/de/p/theater-buehne/theater/der-zauberer-von-oz-7450538416490424769.html
END:VEVENT
BEGIN:VEVENT
UID:20260419T163348Z-7450538529220739130@eventfrog.ch
DTSTAMP:20260419T163348Z
DTSTART:20260712T130000Z
SUMMARY:Der Zauberer von Oz
DESCRIPTION:Der berühmte Kinderbuchklassiker hat in seiner 125-jährigen Geschichte die Kinoleinwände und auch die Theaterbühnen der Welt erobert.\n\nhttps://eventfrog.ch/de/p/theater-buehne/theater/der-zauberer-von-oz-7450538529220739130.html
LOCATION:Theater Schloss Maßbach - Unterfränkische Landesbühne
GEO:50.181256;10.281103
URL:https://eventfrog.ch/de/p/theater-buehne/theater/der-zauberer-von-oz-7450538529220739130.html
END:VEVENT
BEGIN:VEVENT
UID:20260419T163348Z-7450538667003636736@eventfrog.ch
DTSTAMP:20260419T163348Z
DTSTART:20260713T070000Z
SUMMARY:Der Zauberer von Oz
DESCRIPTION:Der berühmte Kinderbuchklassiker hat in seiner 125-jährigen Geschichte die Kinoleinwände und auch die Theaterbühnen der Welt erobert.\n\nhttps://eventfrog.ch/de/p/theater-buehne/theater/der-zauberer-von-oz-7450538667003636736.html
LOCATION:Theater Schloss Maßbach - Unterfränkische Landesbühne
GEO:50.181256;10.281103
URL:https://eventfrog.ch/de/p/theater-buehne/theater/der-zauberer-von-oz-7450538667003636736.html
END:VEVENT
BEGIN:VEVENT
UID:20260419T163348Z-7450538627753335284@eventfrog.ch
DTSTAMP:20260419T163348Z
DTSTART:20260713T083000Z
SUMMARY:Der Zauberer von Oz
DESCRIPTION:Der berühmte Kinderbuchklassiker hat in seiner 125-jährigen Geschichte die Kinoleinwände und auch die Theaterbühnen der Welt erobert.\n\nhttps://eventfrog.ch/de/p/theater-buehne/theater/der-zauberer-von-oz-7450538627753335284.html
LOCATION:Theater Schloss Maßbach - Unterfränkische Landesbühne
GEO:50.181256;10.281103
URL:https://eventfrog.ch/de/p/theater-buehne/theater/der-zauberer-von-oz-7450538627753335284.html
END:VEVENT
BEGIN:VEVENT
UID:20260419T163348Z-7450538726722145547@eventfrog.ch
DTSTAMP:20260419T163348Z
DTSTART:20260713T130000Z
SUMMARY:Der Zauberer von Oz
DESCRIPTION:Der berühmte Kinderbuchklassiker hat in seiner 125-jährigen Geschichte die Kinoleinwände und auch die Theaterbühnen der Welt erobert.\n\nhttps://eventfrog.ch/de/p/theater-buehne/theater/der-zauberer-von-oz-7450538726722145547.html
LOCATION:Theater Schloss Maßbach - Unterfränkische Landesbühne
GEO:50.181256;10.281103
URL:https://eventfrog.ch/de/p/theater-buehne/theater/der-zauberer-von-oz-7450538726722145547.html
END:VEVENT
BEGIN:VEVENT
UID:20260419T163348Z-7450538906125128125@eventfrog.ch
DTSTAMP:20260419T163348Z
DTSTART:20260714T070000Z
SUMMARY:Der Zauberer von Oz
DESCRIPTION:Der berühmte Kinderbuchklassiker hat in seiner 125-jährigen Geschichte die Kinoleinwände und auch die Theaterbühnen der Welt erobert.\n\nhttps://eventfrog.ch/de/p/theater-buehne/theater/der-zauberer-von-oz-7450538906125128125.html
LOCATION:Theater Schloss Maßbach - Unterfränkische Landesbühne
GEO:50.181256;10.281103
URL:https://eventfrog.ch/de/p/theater-buehne/theater/der-zauberer-von-oz-7450538906125128125.html
END:VEVENT
BEGIN:VEVENT
UID:20260419T163348Z-7450538857156625930@eventfrog.ch
DTSTAMP:20260419T163348Z
DTSTART:20260714T083000Z
SUMMARY:Der Zauberer von Oz
DESCRIPTION:Der berühmte Kinderbuchklassiker hat in seiner 125-jährigen Geschichte die Kinoleinwände und auch die Theaterbühnen der Welt erobert.\n\nhttps://eventfrog.ch/de/p/theater-buehne/theater/der-zauberer-von-oz-7450538857156625930.html
LOCATION:Theater Schloss Maßbach - Unterfränkische Landesbühne
GEO:50.181256;10.281103
URL:https://eventfrog.ch/de/p/theater-buehne/theater/der-zauberer-von-oz-7450538857156625930.html
END:VEVENT
BEGIN:VEVENT
UID:20260419T163348Z-7450538783345258524@eventfrog.ch
DTSTAMP:20260419T163348Z
DTSTART:20260714T130000Z
SUMMARY:Der Zauberer von Oz
DESCRIPTION:Der berühmte Kinderbuchklassiker hat in seiner 125-jährigen Geschichte die Kinoleinwände und auch die Theaterbühnen der Welt erobert.\n\nhttps://eventfrog.ch/de/p/theater-buehne/theater/der-zauberer-von-oz-7450538783345258524.html
LOCATION:Theater Schloss Maßbach - Unterfränkische Landesbühne
GEO:50.181256;10.281103
URL:https://eventfrog.ch/de/p/theater-buehne/theater/der-zauberer-von-oz-7450538783345258524.html
END:VEVENT
BEGIN:VEVENT
UID:20260419T163348Z-7450538963041839268@eventfrog.ch
DTSTAMP:20260419T163348Z
DTSTART:20260715T070000Z
SUMMARY:Der Zauberer von Oz
DESCRIPTION:Der berühmte Kinderbuchklassiker hat in seiner 125-jährigen Geschichte die Kinoleinwände und auch die Theaterbühnen der Welt erobert.\n\nhttps://eventfrog.ch/de/p/theater-buehne/theater/der-zauberer-von-oz-7450538963041839268.html
LOCATION:Theater Schloss Maßbach - Unterfränkische Landesbühne
GEO:50.181256;10.281103
URL:https://eventfrog.ch/de/p/theater-buehne/theater/der-zauberer-von-oz-7450538963041839268.html
END:VEVENT
BEGIN:VEVENT
UID:20260419T163348Z-7450539003017753246@eventfrog.ch
DTSTAMP:20260419T163348Z
DTSTART:20260715T083000Z
SUMMARY:Der Zauberer von Oz
DESCRIPTION:Der berühmte Kinderbuchklassiker hat in seiner 125-jährigen Geschichte die Kinoleinwände und auch die Theaterbühnen der Welt erobert.\n\nhttps://eventfrog.ch/de/p/theater-buehne/theater/der-zauberer-von-oz-7450539003017753246.html
LOCATION:Theater Schloss Maßbach - Unterfränkische Landesbühne
GEO:50.181256;10.281103
URL:https://eventfrog.ch/de/p/theater-buehne/theater/der-zauberer-von-oz-7450539003017753246.html
END:VEVENT
BEGIN:VEVENT
UID:20260419T163348Z-7450539064149673621@eventfrog.ch
DTSTAMP:20260419T163348Z
DTSTART:20260716T070000Z
SUMMARY:Der Zauberer von Oz
DESCRIPTION:Der berühmte Kinderbuchklassiker hat in seiner 125-jährigen Geschichte die Kinoleinwände und auch die Theaterbühnen der Welt erobert.\n\nhttps://eventfrog.ch/de/p/theater-buehne/theater/der-zauberer-von-oz-7450539064149673621.html
LOCATION:Theater Schloss Maßbach - Unterfränkische Landesbühne
GEO:50.181256;10.281103
URL:https://eventfrog.ch/de/p/theater-buehne/theater/der-zauberer-von-oz-7450539064149673621.html
END:VEVENT
BEGIN:VEVENT
UID:20260419T163348Z-7450539102569501107@eventfrog.ch
DTSTAMP:20260419T163348Z
DTSTART:20260716T083000Z
SUMMARY:Der Zauberer von Oz
DESCRIPTION:Der berühmte Kinderbuchklassiker hat in seiner 125-jährigen Geschichte die Kinoleinwände und auch die Theaterbühnen der Welt erobert.\n\nhttps://eventfrog.ch/de/p/theater-buehne/theater/der-zauberer-von-oz-7450539102569501107.html
LOCATION:Theater Schloss Maßbach - Unterfränkische Landesbühne
GEO:50.181256;10.281103
URL:https://eventfrog.ch/de/p/theater-buehne/theater/der-zauberer-von-oz-7450539102569501107.html
END:VEVENT
BEGIN:VEVENT
UID:20260419T163348Z-7450539166004159868@eventfrog.ch
DTSTAMP:20260419T163348Z
DTSTART:20260717T070000Z
SUMMARY:Der Zauberer von Oz
DESCRIPTION:Der berühmte Kinderbuchklassiker hat in seiner 125-jährigen Geschichte die Kinoleinwände und auch die Theaterbühnen der Welt erobert.\n\nhttps://eventfrog.ch/de/p/theater-buehne/theater/der-zauberer-von-oz-7450539166004159868.html
LOCATION:Theater Schloss Maßbach - Unterfränkische Landesbühne
GEO:50.181256;10.281103
URL:https://eventfrog.ch/de/p/theater-buehne/theater/der-zauberer-von-oz-7450539166004159868.html
END:VEVENT
BEGIN:VEVENT
UID:20260419T163348Z-7450539203392188209@eventfrog.ch
DTSTAMP:20260419T163348Z
DTSTART:20260717T083000Z
SUMMARY:Der Zauberer von Oz
DESCRIPTION:Der berühmte Kinderbuchklassiker hat in seiner 125-jährigen Geschichte die Kinoleinwände und auch die Theaterbühnen der Welt erobert.\n\nhttps://eventfrog.ch/de/p/theater-buehne/theater/der-zauberer-von-oz-7450539203392188209.html
LOCATION:Theater Schloss Maßbach - Unterfränkische Landesbühne
GEO:50.181256;10.281103
URL:https://eventfrog.ch/de/p/theater-buehne/theater/der-zauberer-von-oz-7450539203392188209.html
END:VEVENT
BEGIN:VEVENT
UID:20260419T163348Z-7450539280168931780@eventfrog.ch
DTSTAMP:20260419T163348Z
DTSTART:20260720T070000Z
SUMMARY:Der Zauberer von Oz
DESCRIPTION:Der berühmte Kinderbuchklassiker hat in seiner 125-jährigen Geschichte die Kinoleinwände und auch die Theaterbühnen der Welt erobert.\n\nhttps://eventfrog.ch/de/p/theater-buehne/theater/der-zauberer-von-oz-7450539280168931780.html
LOCATION:Theater Schloss Maßbach - Unterfränkische Landesbühne
GEO:50.181256;10.281103
URL:https://eventfrog.ch/de/p/theater-buehne/theater/der-zauberer-von-oz-7450539280168931780.html
END:VEVENT
BEGIN:VEVENT
UID:20260419T163348Z-7450539246056651430@eventfrog.ch
DTSTAMP:20260419T163348Z
DTSTART:20260720T083000Z
SUMMARY:Der Zauberer von Oz
DESCRIPTION:Der berühmte Kinderbuchklassiker hat in seiner 125-jährigen Geschichte die Kinoleinwände und auch die Theaterbühnen der Welt erobert.\n\nhttps://eventfrog.ch/de/p/theater-buehne/theater/der-zauberer-von-oz-7450539246056651430.html
LOCATION:Theater Schloss Maßbach - Unterfränkische Landesbühne
GEO:50.181256;10.281103
URL:https://eventfrog.ch/de/p/theater-buehne/theater/der-zauberer-von-oz-7450539246056651430.html
END:VEVENT
BEGIN:VEVENT
UID:20260419T163348Z-7450539375098622821@eventfrog.ch
DTSTAMP:20260419T163348Z
DTSTART:20260721T070000Z
SUMMARY:Der Zauberer von Oz
DESCRIPTION:Der berühmte Kinderbuchklassiker hat in seiner 125-jährigen Geschichte die Kinoleinwände und auch die Theaterbühnen der Welt erobert.\n\nhttps://eventfrog.ch/de/p/theater-buehne/theater/der-zauberer-von-oz-7450539375098622821.html
LOCATION:Theater Schloss Maßbach - Unterfränkische Landesbühne
GEO:50.181256;10.281103
URL:https://eventfrog.ch/de/p/theater-buehne/theater/der-zauberer-von-oz-7450539375098622821.html
END:VEVENT
BEGIN:VEVENT
UID:20260419T163348Z-7450539329833689175@eventfrog.ch
DTSTAMP:20260419T163348Z
DTSTART:20260721T083000Z
SUMMARY:Der Zauberer von Oz
DESCRIPTION:Der berühmte Kinderbuchklassiker hat in seiner 125-jährigen Geschichte die Kinoleinwände und auch die Theaterbühnen der Welt erobert.\n\nhttps://eventfrog.ch/de/p/theater-buehne/theater/der-zauberer-von-oz-7450539329833689175.html
LOCATION:Theater Schloss Maßbach - Unterfränkische Landesbühne
GEO:50.181256;10.281103
URL:https://eventfrog.ch/de/p/theater-buehne/theater/der-zauberer-von-oz-7450539329833689175.html
END:VEVENT
BEGIN:VEVENT
UID:20260419T163348Z-7450539423983238538@eventfrog.ch
DTSTAMP:20260419T163348Z
DTSTART:20260722T070000Z
SUMMARY:Der Zauberer von Oz
DESCRIPTION:Der berühmte Kinderbuchklassiker hat in seiner 125-jährigen Geschichte die Kinoleinwände und auch die Theaterbühnen der Welt erobert.\n\nhttps://eventfrog.ch/de/p/theater-buehne/theater/der-zauberer-von-oz-7450539423983238538.html
LOCATION:Theater Schloss Maßbach - Unterfränkische Landesbühne
GEO:50.181256;10.281103
URL:https://eventfrog.ch/de/p/theater-buehne/theater/der-zauberer-von-oz-7450539423983238538.html
END:VEVENT
BEGIN:VEVENT
UID:20260419T163348Z-7450539459802600592@eventfrog.ch
DTSTAMP:20260419T163348Z
DTSTART:20260722T083000Z
SUMMARY:Der Zauberer von Oz
DESCRIPTION:Der berühmte Kinderbuchklassiker hat in seiner 125-jährigen Geschichte die Kinoleinwände und auch die Theaterbühnen der Welt erobert.\n\nhttps://eventfrog.ch/de/p/theater-buehne/theater/der-zauberer-von-oz-7450539459802600592.html
LOCATION:Theater Schloss Maßbach - Unterfränkische Landesbühne
GEO:50.181256;10.281103
URL:https://eventfrog.ch/de/p/theater-buehne/theater/der-zauberer-von-oz-7450539459802600592.html
END:VEVENT
BEGIN:VEVENT
UID:20260419T163348Z-7450539505184979269@eventfrog.ch
DTSTAMP:20260419T163348Z
DTSTART:20260723T070000Z
SUMMARY:Der Zauberer von Oz
DESCRIPTION:Der berühmte Kinderbuchklassiker hat in seiner 125-jährigen Geschichte die Kinoleinwände und auch die Theaterbühnen der Welt erobert.\n\nhttps://eventfrog.ch/de/p/theater-buehne/theater/der-zauberer-von-oz-7450539505184979269.html
LOCATION:Theater Schloss Maßbach - Unterfränkische Landesbühne
GEO:50.181256;10.281103
URL:https://eventfrog.ch/de/p/theater-buehne/theater/der-zauberer-von-oz-7450539505184979269.html
END:VEVENT
BEGIN:VEVENT
UID:20260419T163348Z-7450539547916552836@eventfrog.ch
DTSTAMP:20260419T163348Z
DTSTART:20260723T083000Z
SUMMARY:Der Zauberer von Oz
DESCRIPTION:Der berühmte Kinderbuchklassiker hat in seiner 125-jährigen Geschichte die Kinoleinwände und auch die Theaterbühnen der Welt erobert.\n\nhttps://eventfrog.ch/de/p/theater-buehne/theater/der-zauberer-von-oz-7450539547916552836.html
LOCATION:Theater Schloss Maßbach - Unterfränkische Landesbühne
GEO:50.181256;10.281103
URL:https://eventfrog.ch/de/p/theater-buehne/theater/der-zauberer-von-oz-7450539547916552836.html
END:VEVENT
BEGIN:VEVENT
UID:20260419T163348Z-7450539608150960962@eventfrog.ch
DTSTAMP:20260419T163348Z
DTSTART:20260724T070000Z
SUMMARY:Der Zauberer von Oz
DESCRIPTION:Der berühmte Kinderbuchklassiker hat in seiner 125-jährigen Geschichte die Kinoleinwände und auch die Theaterbühnen der Welt erobert.\n\nhttps://eventfrog.ch/de/p/theater-buehne/theater/der-zauberer-von-oz-7450539608150960962.html
LOCATION:Theater Schloss Maßbach - Unterfränkische Landesbühne
GEO:50.181256;10.281103
URL:https://eventfrog.ch/de/p/theater-buehne/theater/der-zauberer-von-oz-7450539608150960962.html
END:VEVENT
BEGIN:VEVENT
UID:20260419T163348Z-7450539651469675184@eventfrog.ch
DTSTAMP:20260419T163348Z
DTSTART:20260724T083000Z
SUMMARY:Der Zauberer von Oz
DESCRIPTION:Der berühmte Kinderbuchklassiker hat in seiner 125-jährigen Geschichte die Kinoleinwände und auch die Theaterbühnen der Welt erobert.\n\nhttps://eventfrog.ch/de/p/theater-buehne/theater/der-zauberer-von-oz-7450539651469675184.html
LOCATION:Theater Schloss Maßbach - Unterfränkische Landesbühne
GEO:50.181256;10.281103
URL:https://eventfrog.ch/de/p/theater-buehne/theater/der-zauberer-von-oz-7450539651469675184.html
END:VEVENT
BEGIN:VEVENT
UID:20260419T163348Z-7450539737234809914@eventfrog.ch
DTSTAMP:20260419T163348Z
DTSTART:20260725T130000Z
SUMMARY:Der Zauberer von Oz
DESCRIPTION:Der berühmte Kinderbuchklassiker hat in seiner 125-jährigen Geschichte die Kinoleinwände und auch die Theaterbühnen der Welt erobert.\n\nhttps://eventfrog.ch/de/p/theater-buehne/theater/der-zauberer-von-oz-7450539737234809914.html
LOCATION:Theater Schloss Maßbach - Unterfränkische Landesbühne
GEO:50.181256;10.281103
URL:https://eventfrog.ch/de/p/theater-buehne/theater/der-zauberer-von-oz-7450539737234809914.html
END:VEVENT
BEGIN:VEVENT
UID:20260419T163348Z-7450539806071736479@eventfrog.ch
DTSTAMP:20260419T163348Z
DTSTART:20260726T130000Z
SUMMARY:Der Zauberer von Oz
DESCRIPTION:Der berühmte Kinderbuchklassiker hat in seiner 125-jährigen Geschichte die Kinoleinwände und auch die Theaterbühnen der Welt erobert.\n\nhttps://eventfrog.ch/de/p/theater-buehne/theater/der-zauberer-von-oz-7450539806071736479.html
LOCATION:Theater Schloss Maßbach - Unterfränkische Landesbühne
GEO:50.181256;10.281103
URL:https://eventfrog.ch/de/p/theater-buehne/theater/der-zauberer-von-oz-7450539806071736479.html
END:VEVENT
BEGIN:VEVENT
UID:20260419T163348Z-7450539891220312565@eventfrog.ch
DTSTAMP:20260419T163348Z
DTSTART:20260727T070000Z
SUMMARY:Der Zauberer von Oz
DESCRIPTION:Der berühmte Kinderbuchklassiker hat in seiner 125-jährigen Geschichte die Kinoleinwände und auch die Theaterbühnen der Welt erobert.\n\nhttps://eventfrog.ch/de/p/theater-buehne/theater/der-zauberer-von-oz-7450539891220312565.html
LOCATION:Theater Schloss Maßbach - Unterfränkische Landesbühne
GEO:50.181256;10.281103
URL:https://eventfrog.ch/de/p/theater-buehne/theater/der-zauberer-von-oz-7450539891220312565.html
END:VEVENT
BEGIN:VEVENT
UID:20260419T163348Z-7450539970798847504@eventfrog.ch
DTSTAMP:20260419T163348Z
DTSTART:20260727T083000Z
SUMMARY:Der Zauberer von Oz
DESCRIPTION:Der berühmte Kinderbuchklassiker hat in seiner 125-jährigen Geschichte die Kinoleinwände und auch die Theaterbühnen der Welt erobert.\n\nhttps://eventfrog.ch/de/p/theater-buehne/theater/der-zauberer-von-oz-7450539970798847504.html
LOCATION:Theater Schloss Maßbach - Unterfränkische Landesbühne
GEO:50.181256;10.281103
URL:https://eventfrog.ch/de/p/theater-buehne/theater/der-zauberer-von-oz-7450539970798847504.html
END:VEVENT
END:VCALENDAR