BEGIN:VCALENDAR
VERSION:2.0
PRODID:EVENTFROG//EVENTGROUP//ICAL
BEGIN:VEVENT
UID:20260426T022706Z-7450547438702570334@eventfrog.ch
DTSTAMP:20260426T022706Z
DTSTART:20260513T130000Z
SUMMARY:Luzerner Geschichte in 20 Minuten
DESCRIPTION:Von den Anfängen der Stadt Luzern zu revolutionären Zeiten bis zum Beginn des Massentourismus.\n\nhttps://eventfrog.ch/de/p/fuehrungen-vortraege/fuehrung/luzerner-geschichte-in-20-minuten-7450547438702570334.html
LOCATION:Museum Luzern
GEO:47.051683;8.301061
URL:https://eventfrog.ch/de/p/fuehrungen-vortraege/fuehrung/luzerner-geschichte-in-20-minuten-7450547438702570334.html
END:VEVENT
BEGIN:VEVENT
UID:20260426T022706Z-7450547467265782470@eventfrog.ch
DTSTAMP:20260426T022706Z
DTSTART:20260515T130000Z
SUMMARY:Luzerner Geschichte in 20 Minuten
DESCRIPTION:Von den Anfängen der Stadt Luzern zu revolutionären Zeiten bis zum Beginn des Massentourismus.\n\nhttps://eventfrog.ch/de/p/fuehrungen-vortraege/fuehrung/luzerner-geschichte-in-20-minuten-7450547467265782470.html
LOCATION:Museum Luzern
GEO:47.051683;8.301061
URL:https://eventfrog.ch/de/p/fuehrungen-vortraege/fuehrung/luzerner-geschichte-in-20-minuten-7450547467265782470.html
END:VEVENT
BEGIN:VEVENT
UID:20260426T022706Z-7450547467530024277@eventfrog.ch
DTSTAMP:20260426T022706Z
DTSTART:20260524T140000Z
SUMMARY:Luzerner Geschichte in 20 Minuten
DESCRIPTION:Von den Anfängen der Stadt Luzern zu revolutionären Zeiten bis zum Beginn des Massentourismus.\n\nhttps://eventfrog.ch/de/p/fuehrungen-vortraege/fuehrung/luzerner-geschichte-in-20-minuten-7450547467530024277.html
LOCATION:Museum Luzern
GEO:47.051683;8.301061
URL:https://eventfrog.ch/de/p/fuehrungen-vortraege/fuehrung/luzerner-geschichte-in-20-minuten-7450547467530024277.html
END:VEVENT
BEGIN:VEVENT
UID:20260426T022706Z-7450547467660047880@eventfrog.ch
DTSTAMP:20260426T022706Z
DTSTART:20260527T130000Z
SUMMARY:Luzerner Geschichte in 20 Minuten
DESCRIPTION:Von den Anfängen der Stadt Luzern zu revolutionären Zeiten bis zum Beginn des Massentourismus.\n\nhttps://eventfrog.ch/de/p/fuehrungen-vortraege/fuehrung/luzerner-geschichte-in-20-minuten-7450547467660047880.html
LOCATION:Museum Luzern
GEO:47.051683;8.301061
URL:https://eventfrog.ch/de/p/fuehrungen-vortraege/fuehrung/luzerner-geschichte-in-20-minuten-7450547467660047880.html
END:VEVENT
END:VCALENDAR