BEGIN:VCALENDAR
VERSION:2.0
PRODID:EVENTFROG//EVENTGROUP//ICAL
BEGIN:VEVENT
UID:20260419T173859Z-7450882917394316629@eventfrog.ch
DTSTAMP:20260419T173859Z
DTSTART:20260716T161500Z
DTEND:20260716T204500Z
SUMMARY:Meersburg by Night
DESCRIPTION:Geniessen Sie eine Hin- und Rückfahrt zu einem gemütlichen Aufenthalt in Meersburg.\n\nhttps://eventfrog.ch/de/p/freizeit-ausfluege/ausfahrt/meersburg-by-night-7450882917394316629.html
LOCATION:Schweizerische Bodensee-Schifffahrt AG
GEO:47.564596;9.380165
URL:https://eventfrog.ch/de/p/freizeit-ausfluege/ausfahrt/meersburg-by-night-7450882917394316629.html
END:VEVENT
BEGIN:VEVENT
UID:20260419T173859Z-7450883002429639481@eventfrog.ch
DTSTAMP:20260419T173859Z
DTSTART:20260730T161500Z
DTEND:20260730T204500Z
SUMMARY:Meersburg by Night
DESCRIPTION:Geniessen Sie eine Hin- und Rückfahrt zu einem gemütlichen Aufenthalt in Meersburg.\n\nhttps://eventfrog.ch/de/p/freizeit-ausfluege/ausfahrt/meersburg-by-night-7450883002429639481.html
LOCATION:Schweizerische Bodensee-Schifffahrt AG
GEO:47.564596;9.380165
URL:https://eventfrog.ch/de/p/freizeit-ausfluege/ausfahrt/meersburg-by-night-7450883002429639481.html
END:VEVENT
BEGIN:VEVENT
UID:20260419T173859Z-7450883002664521132@eventfrog.ch
DTSTAMP:20260419T173859Z
DTSTART:20260813T161500Z
DTEND:20260813T204500Z
SUMMARY:Meersburg by Night
DESCRIPTION:Geniessen Sie eine Hin- und Rückfahrt zu einem gemütlichen Aufenthalt in Meersburg.\n\nhttps://eventfrog.ch/de/p/freizeit-ausfluege/ausfahrt/meersburg-by-night-7450883002664521132.html
LOCATION:Schweizerische Bodensee-Schifffahrt AG
GEO:47.564596;9.380165
URL:https://eventfrog.ch/de/p/freizeit-ausfluege/ausfahrt/meersburg-by-night-7450883002664521132.html
END:VEVENT
BEGIN:VEVENT
UID:20260419T173859Z-7450883002807127532@eventfrog.ch
DTSTAMP:20260419T173859Z
DTSTART:20260827T161500Z
DTEND:20260827T204500Z
SUMMARY:Meersburg by Night
DESCRIPTION:Geniessen Sie eine Hin- und Rückfahrt zu einem gemütlichen Aufenthalt in Meersburg.\n\nhttps://eventfrog.ch/de/p/freizeit-ausfluege/ausfahrt/meersburg-by-night-7450883002807127532.html
LOCATION:Schweizerische Bodensee-Schifffahrt AG
GEO:47.564596;9.380165
URL:https://eventfrog.ch/de/p/freizeit-ausfluege/ausfahrt/meersburg-by-night-7450883002807127532.html
END:VEVENT
END:VCALENDAR