BEGIN:VCALENDAR
VERSION:2.0
PRODID:EVENTFROG//EVENTGROUP//ICAL
BEGIN:VEVENT
UID:20260425T155831Z-7451031662274599871@eventfrog.ch
DTSTAMP:20260425T155831Z
DTSTART:20260615T071500Z
DTEND:20260615T091500Z
SUMMARY:Malatelier für Alle und Eltern-Kind-Malen
DESCRIPTION:Malen und Gestalten, Eintritt frei, Kollekte\n\nhttps://eventfrog.ch/de/p/kurse-seminare/malatelier-fuer-alle-und-eltern-kind-malen-7451031662274599871.html
LOCATION:tiRumpel
GEO:47.420944;9.356495
URL:https://eventfrog.ch/de/p/kurse-seminare/malatelier-fuer-alle-und-eltern-kind-malen-7451031662274599871.html
END:VEVENT
END:VCALENDAR