BEGIN:VCALENDAR
VERSION:2.0
PRODID:EVENTFROG//EVENTGROUP//ICAL
BEGIN:VEVENT
UID:20260420T080732Z-7451188489444421446@eventfrog.ch
DTSTAMP:20260420T080732Z
DTSTART:20260725T203000Z
SUMMARY:CinéGurz - 25.07.2026 - Thelma & Louise (E/df)
DESCRIPTION:Der Film «Thelma & Louise» läuft am 25.7. ab 22:30 Uhr in Englisch mit dt. & frz. Untertiteln, Barbetrieb ab 21 Uhr.\n\nhttps://eventfrog.ch/de/p/freizeit-ausfluege/film-kino/cinegurz-25-07-2026-thelma-louise-e-df-7451188489444421446.html
LOCATION:CinéGurz
GEO:47.145779;7.260895
URL:https://eventfrog.ch/de/p/freizeit-ausfluege/film-kino/cinegurz-25-07-2026-thelma-louise-e-df-7451188489444421446.html
END:VEVENT
BEGIN:VEVENT
UID:20260420T080732Z-7451192135229961011@eventfrog.ch
DTSTAMP:20260420T080732Z
DTSTART:20260822T200000Z
SUMMARY:CinéGurz - 22.08.2026 - Marnie (E/df)
DESCRIPTION:Der Film «Marnie» läuft am 22.8. ab 22:00 Uhr in Englisch mit dt. & frz. Untertiteln, Barbetrieb ab 21 Uhr.\n\nhttps://eventfrog.ch/de/p/freizeit-ausfluege/film-kino/cinegurz-22-08-2026-marnie-e-df-7451192135229961011.html
LOCATION:CinéGurz
GEO:47.145779;7.260895
URL:https://eventfrog.ch/de/p/freizeit-ausfluege/film-kino/cinegurz-22-08-2026-marnie-e-df-7451192135229961011.html
END:VEVENT
BEGIN:VEVENT
UID:20260420T080732Z-7451192996387660220@eventfrog.ch
DTSTAMP:20260420T080732Z
DTSTART:20260905T200000Z
SUMMARY:CinéGurz - 05.09.2026 - Pulp Fiction (E/df)
DESCRIPTION:Der Film «Pulp Fiction» läuft am 5.9. ab 22:00 Uhr in Englisch mit dt. & frz. Untertiteln, Barbetrieb ab 21 Uhr.\n\nhttps://eventfrog.ch/de/p/freizeit-ausfluege/film-kino/cinegurz-05-09-2026-pulp-fiction-e-df-7451192996387660220.html
LOCATION:CinéGurz
GEO:47.145779;7.260895
URL:https://eventfrog.ch/de/p/freizeit-ausfluege/film-kino/cinegurz-05-09-2026-pulp-fiction-e-df-7451192996387660220.html
END:VEVENT
END:VCALENDAR