BEGIN:VCALENDAR
VERSION:2.0
PRODID:EVENTFROG//EVENTGROUP//ICAL
BEGIN:VEVENT
UID:20260419T224554Z-7451385362163719468@eventfrog.ch
DTSTAMP:20260419T224554Z
DTSTART:20260509T150000Z
SUMMARY:Tanzfest Winterthur: Society
DESCRIPTION:Tanzfest Winterthur: Society\n\nhttps://eventfrog.ch/de/p/theater-buehne/tanzfest-winterthur-society-7451385362163719468.html
LOCATION:Theater Winterthur
GEO:47.502060;8.727860
URL:https://eventfrog.ch/de/p/theater-buehne/tanzfest-winterthur-society-7451385362163719468.html
END:VEVENT
BEGIN:VEVENT
UID:20260419T224554Z-7451385362339880237@eventfrog.ch
DTSTAMP:20260419T224554Z
DTSTART:20260509T180000Z
SUMMARY:Tanzfest Winterthur: Society
DESCRIPTION:Tanzfest Winterthur: Society\n\nhttps://eventfrog.ch/de/p/theater-buehne/tanzfest-winterthur-society-7451385362339880237.html
LOCATION:Theater Winterthur
GEO:47.502060;8.727860
URL:https://eventfrog.ch/de/p/theater-buehne/tanzfest-winterthur-society-7451385362339880237.html
END:VEVENT
END:VCALENDAR