BEGIN:VCALENDAR
VERSION:2.0
PRODID:EVENTFROG//EVENTGROUP//ICAL
BEGIN:VEVENT
UID:20260419T163349Z-7439444617966133671@eventfrog.ch
DTSTAMP:20260419T163349Z
DTSTART:20260421T123000Z
SUMMARY:Café TrotzDem Sarganserland
DESCRIPTION:Treffpunkt für Menschen mit Demenz und ihre Angehörigen.\n\nhttps://eventfrog.ch/de/p/diverses/cafe-trotzdem-sarganserland-7439444617966133671.html
LOCATION:Restaurant Kiesfang
GEO:47.029843;9.446894
URL:https://eventfrog.ch/de/p/diverses/cafe-trotzdem-sarganserland-7439444617966133671.html
END:VEVENT
END:VCALENDAR