BEGIN:VCALENDAR
VERSION:2.0
PRODID:EVENTFROG//EVENTGROUP//ICAL
BEGIN:VEVENT
UID:20260419T164606Z-7451392938200840731@eventfrog.ch
DTSTAMP:20260419T164606Z
DTSTART:20260524T113000Z
SUMMARY:Eine Reise durch Zeit und Erinnerung
DESCRIPTION:Rundgang im Rahmen der Emsiana.\n\nhttps://eventfrog.ch/de/p/wissenschaft-und-technik/eine-reise-durch-zeit-und-erinnerung-7451392938200840731.html
LOCATION:Jüdischer Friedhof
GEO:47.346977;9.672768
URL:https://eventfrog.ch/de/p/wissenschaft-und-technik/eine-reise-durch-zeit-und-erinnerung-7451392938200840731.html
END:VEVENT
BEGIN:VEVENT
UID:20260419T164606Z-7451392938381195805@eventfrog.ch
DTSTAMP:20260419T164606Z
DTSTART:20260524T130000Z
SUMMARY:Eine Reise durch Zeit und Erinnerung
DESCRIPTION:Rundgang im Rahmen der Emsiana.\n\nhttps://eventfrog.ch/de/p/wissenschaft-und-technik/eine-reise-durch-zeit-und-erinnerung-7451392938381195805.html
LOCATION:Jüdischer Friedhof
GEO:47.346977;9.672768
URL:https://eventfrog.ch/de/p/wissenschaft-und-technik/eine-reise-durch-zeit-und-erinnerung-7451392938381195805.html
END:VEVENT
END:VCALENDAR