BEGIN:VCALENDAR
VERSION:2.0
PRODID:EVENTFROG//EVENTGROUP//ICAL
BEGIN:VEVENT
UID:20260419T221417Z-7451605005730063174@eventfrog.ch
DTSTAMP:20260419T221417Z
DTSTART:20260501T170000Z
DTEND:20260501T193000Z
SUMMARY:Begegnungsabend
DESCRIPTION:Ab 1.5.26 lädt 'Hand und Herz' monatlich Frauen zu einem kreativen Austauschabend mit gemeinsamen Projekten ohne Druck ein.\n\nhttps://eventfrog.ch/de/p/kurse-seminare/freizeit-hobby/begegnungsabend-7451605005730063174.html
LOCATION:Crea Party
GEO:47.499998;7.720026
URL:https://eventfrog.ch/de/p/kurse-seminare/freizeit-hobby/begegnungsabend-7451605005730063174.html
END:VEVENT
BEGIN:VEVENT
UID:20260419T221417Z-7451606893477296490@eventfrog.ch
DTSTAMP:20260419T221417Z
DTSTART:20260604T170000Z
DTEND:20260604T193000Z
SUMMARY:Begegnungsabend
DESCRIPTION:Ab 1.5.26 lädt 'Hand und Herz' monatlich Frauen zu einem kreativen Austauschabend mit gemeinsamen Projekten ohne Druck ein.\n\nhttps://eventfrog.ch/de/p/kurse-seminare/freizeit-hobby/begegnungsabend-7451606893477296490.html
LOCATION:Crea Party
GEO:47.499998;7.720026
URL:https://eventfrog.ch/de/p/kurse-seminare/freizeit-hobby/begegnungsabend-7451606893477296490.html
END:VEVENT
BEGIN:VEVENT
UID:20260419T221417Z-7451606893703788909@eventfrog.ch
DTSTAMP:20260419T221417Z
DTSTART:20260702T170000Z
DTEND:20260702T193000Z
SUMMARY:Begegnungsabend
DESCRIPTION:Ab 1.5.26 lädt 'Hand und Herz' monatlich Frauen zu einem kreativen Austauschabend mit gemeinsamen Projekten ohne Druck ein.\n\nhttps://eventfrog.ch/de/p/kurse-seminare/freizeit-hobby/begegnungsabend-7451606893703788909.html
LOCATION:Crea Party
GEO:47.499998;7.720026
URL:https://eventfrog.ch/de/p/kurse-seminare/freizeit-hobby/begegnungsabend-7451606893703788909.html
END:VEVENT
BEGIN:VEVENT
UID:20260419T221417Z-7451606893846395777@eventfrog.ch
DTSTAMP:20260419T221417Z
DTSTART:20260806T170000Z
DTEND:20260806T193000Z
SUMMARY:Begegnungsabend
DESCRIPTION:Ab 1.5.26 lädt 'Hand und Herz' monatlich Frauen zu einem kreativen Austauschabend mit gemeinsamen Projekten ohne Druck ein.\n\nhttps://eventfrog.ch/de/p/kurse-seminare/freizeit-hobby/begegnungsabend-7451606893846395777.html
LOCATION:Crea Party
GEO:47.499998;7.720026
URL:https://eventfrog.ch/de/p/kurse-seminare/freizeit-hobby/begegnungsabend-7451606893846395777.html
END:VEVENT
END:VCALENDAR