BEGIN:VCALENDAR
VERSION:2.0
PRODID:EVENTFROG//EVENTGROUP//ICAL
BEGIN:VEVENT
UID:20260424T064917Z-7451630739177645490@eventfrog.ch
DTSTAMP:20260424T064917Z
DTSTART:20260509T110000Z
DTEND:20260509T150000Z
SUMMARY:Offenes Atelier mit Ausstellung im Garten
DESCRIPTION:Ausstellung und Verkauf von handgemachter Keramik für Haus und Garten\n\nhttps://eventfrog.ch/de/p/kunst-ausstellungen/ausstellung/offenes-atelier-mit-ausstellung-im-garten-7451630739177645490.html
LOCATION:smk keramik
GEO:47.443929;8.632707
URL:https://eventfrog.ch/de/p/kunst-ausstellungen/ausstellung/offenes-atelier-mit-ausstellung-im-garten-7451630739177645490.html
END:VEVENT
BEGIN:VEVENT
UID:20260424T064917Z-7451630879296763725@eventfrog.ch
DTSTAMP:20260424T064917Z
DTSTART:20260510T090000Z
DTEND:20260510T140000Z
SUMMARY:Offenes Atelier mit Ausstellung im Garten
DESCRIPTION:Ausstellung und Verkauf von handgemachter Keramik für Haus und Garten\n\nhttps://eventfrog.ch/de/p/kunst-ausstellungen/ausstellung/offenes-atelier-mit-ausstellung-im-garten-7451630879296763725.html
LOCATION:smk keramik
GEO:47.443929;8.632707
URL:https://eventfrog.ch/de/p/kunst-ausstellungen/ausstellung/offenes-atelier-mit-ausstellung-im-garten-7451630879296763725.html
END:VEVENT
END:VCALENDAR