BEGIN:VCALENDAR
VERSION:2.0
PRODID:EVENTFROG//EVENTGROUP//ICAL
BEGIN:VEVENT
UID:20260424T144910Z-7451654201900332177@eventfrog.ch
DTSTAMP:20260424T144910Z
DTSTART:20260501T083000Z
DTEND:20260501T163000Z
SUMMARY:Schicksal oder Wahl? Thementage rund um Verwandtschaft
DESCRIPTION:Zweitägiges Festival im Humboldt Forum zeigt Tanz, Lesungen und Gespräche zu Familie, Wahlfamilie und Beziehungen.\n\nhttps://eventfrog.ch/de/p/kinderveranstaltungen/familienveranstaltungen/schicksal-oder-wahl-thementage-rund-um-verwandtschaft-7451654201900332177.html
LOCATION:Humboldt Forum
GEO:52.517275;13.401640
URL:https://eventfrog.ch/de/p/kinderveranstaltungen/familienveranstaltungen/schicksal-oder-wahl-thementage-rund-um-verwandtschaft-7451654201900332177.html
END:VEVENT
BEGIN:VEVENT
UID:20260424T144910Z-7451654307550595973@eventfrog.ch
DTSTAMP:20260424T144910Z
DTSTART:20260502T083000Z
DTEND:20260502T163000Z
SUMMARY:Schicksal oder Wahl? Thementage rund um Verwandtschaft
DESCRIPTION:Zweitägiges Festival im Humboldt Forum zeigt Tanz, Lesungen und Gespräche zu Familie, Wahlfamilie und Beziehungen.\n\nhttps://eventfrog.ch/de/p/kinderveranstaltungen/familienveranstaltungen/schicksal-oder-wahl-thementage-rund-um-verwandtschaft-7451654307550595973.html
LOCATION:Humboldt Forum
GEO:52.517275;13.401640
URL:https://eventfrog.ch/de/p/kinderveranstaltungen/familienveranstaltungen/schicksal-oder-wahl-thementage-rund-um-verwandtschaft-7451654307550595973.html
END:VEVENT
END:VCALENDAR