BEGIN:VCALENDAR
VERSION:2.0
PRODID:EVENTFROG//EVENTGROUP//ICAL
BEGIN:VEVENT
UID:20260424T063619Z-7451751388193766611@eventfrog.ch
DTSTAMP:20260424T063619Z
DTSTART:20260501T170000Z
SUMMARY:Surface. Fragment. Body
DESCRIPTION:Surface. Fragment. Body\n\nhttps://eventfrog.ch/de/p/kunst-ausstellungen/surface-fragment-body-7451751388193766611.html
LOCATION:Kunsthalle Luzern
GEO:47.056300;8.311160
URL:https://eventfrog.ch/de/p/kunst-ausstellungen/surface-fragment-body-7451751388193766611.html
END:VEVENT
BEGIN:VEVENT
UID:20260424T063619Z-7451751388017605841@eventfrog.ch
DTSTAMP:20260424T063619Z
DTSTART:20260501T220000Z
DTEND:20260621T215900Z
SUMMARY:Surface. Fragment. Body
DESCRIPTION:Surface. Fragment. Body\n\nhttps://eventfrog.ch/de/p/kunst-ausstellungen/surface-fragment-body-7451751388017605841.html
LOCATION:Kunsthalle Luzern
GEO:47.056300;8.311160
URL:https://eventfrog.ch/de/p/kunst-ausstellungen/surface-fragment-body-7451751388017605841.html
END:VEVENT
BEGIN:VEVENT
UID:20260424T063619Z-7451751388378315989@eventfrog.ch
DTSTAMP:20260424T063619Z
DTSTART:20260527T163000Z
SUMMARY:Surface. Fragment. Body
DESCRIPTION:Surface. Fragment. Body\n\nhttps://eventfrog.ch/de/p/kunst-ausstellungen/surface-fragment-body-7451751388378315989.html
LOCATION:Kunsthalle Luzern
GEO:47.056300;8.311160
URL:https://eventfrog.ch/de/p/kunst-ausstellungen/surface-fragment-body-7451751388378315989.html
END:VEVENT
BEGIN:VEVENT
UID:20260424T063619Z-7451751388550282454@eventfrog.ch
DTSTAMP:20260424T063619Z
DTSTART:20260612T170000Z
SUMMARY:Surface. Fragment. Body
DESCRIPTION:Surface. Fragment. Body\n\nhttps://eventfrog.ch/de/p/kunst-ausstellungen/surface-fragment-body-7451751388550282454.html
LOCATION:Kunsthalle Luzern
GEO:47.056300;8.311160
URL:https://eventfrog.ch/de/p/kunst-ausstellungen/surface-fragment-body-7451751388550282454.html
END:VEVENT
BEGIN:VEVENT
UID:20260424T063619Z-7451751388722248919@eventfrog.ch
DTSTAMP:20260424T063619Z
DTSTART:20260621T120000Z
SUMMARY:Surface. Fragment. Body
DESCRIPTION:Surface. Fragment. Body\n\nhttps://eventfrog.ch/de/p/kunst-ausstellungen/surface-fragment-body-7451751388722248919.html
LOCATION:Kunsthalle Luzern
GEO:47.056300;8.311160
URL:https://eventfrog.ch/de/p/kunst-ausstellungen/surface-fragment-body-7451751388722248919.html
END:VEVENT
END:VCALENDAR