BEGIN:VCALENDAR
VERSION:2.0
PRODID:EVENTFROG//EVENTGROUP//ICAL
BEGIN:VEVENT
UID:20260425T160750Z-7439444449707489499@eventfrog.ch
DTSTAMP:20260425T160750Z
DTSTART:20260425T180000Z
SUMMARY:Samar by Rigolo
DESCRIPTION:Zeitgenössischer Tanz und Luftakrobatik.\n\nhttps://eventfrog.ch/de/p/theater-buehne/samar-by-rigolo-7439444449707489499.html
LOCATION:Phönix Theater
GEO:47.664572;8.975298
URL:https://eventfrog.ch/de/p/theater-buehne/samar-by-rigolo-7439444449707489499.html
END:VEVENT
BEGIN:VEVENT
UID:20260425T160750Z-7439444449883650268@eventfrog.ch
DTSTAMP:20260425T160750Z
DTSTART:20260426T160000Z
SUMMARY:Samar by Rigolo
DESCRIPTION:Zeitgenössischer Tanz und Luftakrobatik.\n\nhttps://eventfrog.ch/de/p/theater-buehne/samar-by-rigolo-7439444449883650268.html
LOCATION:Phönix Theater
GEO:47.664572;8.975298
URL:https://eventfrog.ch/de/p/theater-buehne/samar-by-rigolo-7439444449883650268.html
END:VEVENT
END:VCALENDAR