BEGIN:VCALENDAR
VERSION:2.0
PRODID:EVENTFROG//EVENTGROUP//ICAL
BEGIN:VEVENT
UID:20260424T203816Z-7438721274434585620@eventfrog.ch
DTSTAMP:20260424T203816Z
DTSTART:20260424T180000Z
SUMMARY:Podium 84 – Der Weltuntergang
DESCRIPTION:Ein Theaterstück von Jura Soyfer.\n\nhttps://eventfrog.ch/de/p/theater-buehne/podium-84-der-weltuntergang-7438721274434585620.html
LOCATION:Zeughaus Lindau e.V.
GEO:47.547360;9.682140
URL:https://eventfrog.ch/de/p/theater-buehne/podium-84-der-weltuntergang-7438721274434585620.html
END:VEVENT
BEGIN:VEVENT
UID:20260424T203816Z-7438721275655128332@eventfrog.ch
DTSTAMP:20260424T203816Z
DTSTART:20260425T180000Z
SUMMARY:Podium 84 – Der Weltuntergang
DESCRIPTION:Ein Theaterstück von Jura Soyfer.\n\nhttps://eventfrog.ch/de/p/theater-buehne/podium-84-der-weltuntergang-7438721275655128332.html
LOCATION:Zeughaus Lindau e.V.
GEO:47.547360;9.682140
URL:https://eventfrog.ch/de/p/theater-buehne/podium-84-der-weltuntergang-7438721275655128332.html
END:VEVENT
BEGIN:VEVENT
UID:20260424T203816Z-7438721276674344370@eventfrog.ch
DTSTAMP:20260424T203816Z
DTSTART:20260426T180000Z
SUMMARY:Podium 84 – Der Weltuntergang
DESCRIPTION:Ein Theaterstück von Jura Soyfer.\n\nhttps://eventfrog.ch/de/p/theater-buehne/podium-84-der-weltuntergang-7438721276674344370.html
LOCATION:Zeughaus Lindau e.V.
GEO:47.547360;9.682140
URL:https://eventfrog.ch/de/p/theater-buehne/podium-84-der-weltuntergang-7438721276674344370.html
END:VEVENT
BEGIN:VEVENT
UID:20260424T203816Z-7451390193012113300@eventfrog.ch
DTSTAMP:20260424T203816Z
DTSTART:20260508T180000Z
SUMMARY:Podium 84 – Der Weltuntergang
DESCRIPTION:Ein Theaterstück von Jura Soyfer.\n\nhttps://eventfrog.ch/de/p/theater-buehne/podium-84-der-weltuntergang-7451390193012113300.html
LOCATION:Zeughaus Lindau e.V.
GEO:47.547360;9.682140
URL:https://eventfrog.ch/de/p/theater-buehne/podium-84-der-weltuntergang-7451390193012113300.html
END:VEVENT
BEGIN:VEVENT
UID:20260424T203816Z-7451390195608387518@eventfrog.ch
DTSTAMP:20260424T203816Z
DTSTART:20260509T180000Z
SUMMARY:Podium 84 – Der Weltuntergang
DESCRIPTION:Ein Theaterstück von Jura Soyfer.\n\nhttps://eventfrog.ch/de/p/theater-buehne/podium-84-der-weltuntergang-7451390195608387518.html
LOCATION:Zeughaus Lindau e.V.
GEO:47.547360;9.682140
URL:https://eventfrog.ch/de/p/theater-buehne/podium-84-der-weltuntergang-7451390195608387518.html
END:VEVENT
BEGIN:VEVENT
UID:20260424T203816Z-7451390198212985076@eventfrog.ch
DTSTAMP:20260424T203816Z
DTSTART:20260510T180000Z
SUMMARY:Podium 84 – Der Weltuntergang
DESCRIPTION:Ein Theaterstück von Jura Soyfer.\n\nhttps://eventfrog.ch/de/p/theater-buehne/podium-84-der-weltuntergang-7451390198212985076.html
LOCATION:Zeughaus Lindau e.V.
GEO:47.547360;9.682140
URL:https://eventfrog.ch/de/p/theater-buehne/podium-84-der-weltuntergang-7451390198212985076.html
END:VEVENT
END:VCALENDAR