BEGIN:VCALENDAR
VERSION:2.0
PRODID:EVENTFROG//EVENTGROUP//ICAL
BEGIN:VEVENT
UID:20260425T184943Z-7407916806172582633@eventfrog.ch
DTSTAMP:20260425T184943Z
DTSTART:20260426T120000Z
SUMMARY:Kurzwanderung mit Köbi Hug
DESCRIPTION:Kurzwanderung mit Köbi Hug\n\nhttps://eventfrog.ch/de/p/freizeit-ausfluege/kurzwanderung-mit-koebi-hug-7407916806172582633.html
LOCATION:Kloster Fischingen, Kirche
GEO:47.411719;8.967503
URL:https://eventfrog.ch/de/p/freizeit-ausfluege/kurzwanderung-mit-koebi-hug-7407916806172582633.html
END:VEVENT
BEGIN:VEVENT
UID:20260425T184943Z-7407916806436823800@eventfrog.ch
DTSTAMP:20260425T184943Z
DTSTART:20261018T120000Z
SUMMARY:Kurzwanderung mit Köbi Hug
DESCRIPTION:Kurzwanderung mit Köbi Hug\n\nhttps://eventfrog.ch/de/p/freizeit-ausfluege/kurzwanderung-mit-koebi-hug-7407916806436823800.html
LOCATION:Kloster Fischingen, Kirche
GEO:47.411719;8.967503
URL:https://eventfrog.ch/de/p/freizeit-ausfluege/kurzwanderung-mit-koebi-hug-7407916806436823800.html
END:VEVENT
END:VCALENDAR