BEGIN:VCALENDAR
VERSION:2.0
PRODID:EVENTFROG//EVENTGROUP//ICAL
BEGIN:VEVENT
UID:20260425T155826Z-7451912065663384074@eventfrog.ch
DTSTAMP:20260425T155826Z
DTSTART:20260426T060000Z
DTEND:20260426T130000Z
SUMMARY:FLOHMARKT REWE ( Center ) SCHENEFELD Friedr. - Ebert - Allee
DESCRIPTION:Flohmarkt REWE ( Center ) Schenefeld Friedrich - Ebert - Allee 3 - 11\nBeliebter Flohmarkt seit 1982\n\nhttps://eventfrog.ch/de/p/maerkte/flohmarkt/flohmarkt-rewe-center-schenefeld-friedr-ebert-allee-7451912065663384074.html
LOCATION:FLOHMARKT REWE ( Center ) SCHENEFELD Friedrich - Ebert - Allee 3 - 11
GEO:53.608647;9.841089
URL:https://eventfrog.ch/de/p/maerkte/flohmarkt/flohmarkt-rewe-center-schenefeld-friedr-ebert-allee-7451912065663384074.html
END:VEVENT
BEGIN:VEVENT
UID:20260425T155826Z-7451912544346752216@eventfrog.ch
DTSTAMP:20260425T155826Z
DTSTART:20260531T060000Z
DTEND:20260531T130000Z
SUMMARY:FLOHMARKT REWE ( Center ) SCHENEFELD Friedr. - Ebert - Allee
DESCRIPTION:Flohmarkt REWE ( Center ) Schenefeld Friedrich - Ebert - Allee 3 - 11\nBeliebter Flohmarkt seit 1982\n\nhttps://eventfrog.ch/de/p/maerkte/flohmarkt/flohmarkt-rewe-center-schenefeld-friedr-ebert-allee-7451912544346752216.html
LOCATION:FLOHMARKT REWE ( Center ) SCHENEFELD Friedrich - Ebert - Allee 3 - 11
GEO:53.608647;9.841089
URL:https://eventfrog.ch/de/p/maerkte/flohmarkt/flohmarkt-rewe-center-schenefeld-friedr-ebert-allee-7451912544346752216.html
END:VEVENT
BEGIN:VEVENT
UID:20260425T155826Z-7451915408754391723@eventfrog.ch
DTSTAMP:20260425T155826Z
DTSTART:20260726T060000Z
DTEND:20260726T130000Z
SUMMARY:FLOHMARKT REWE ( Center ) SCHENEFELD Friedr. - Ebert - Allee
DESCRIPTION:Flohmarkt REWE ( Center ) Schenefeld Friedrich - Ebert - Allee 3 - 11\nBeliebter Flohmarkt seit 1982\n\nhttps://eventfrog.ch/de/p/maerkte/flohmarkt/flohmarkt-rewe-center-schenefeld-friedr-ebert-allee-7451915408754391723.html
LOCATION:FLOHMARKT REWE ( Center ) SCHENEFELD Friedrich - Ebert - Allee 3 - 11
GEO:53.608647;9.841089
URL:https://eventfrog.ch/de/p/maerkte/flohmarkt/flohmarkt-rewe-center-schenefeld-friedr-ebert-allee-7451915408754391723.html
END:VEVENT
BEGIN:VEVENT
UID:20260425T155826Z-7451912544447416037@eventfrog.ch
DTSTAMP:20260425T155826Z
DTSTART:20260823T060000Z
DTEND:20260823T130000Z
SUMMARY:FLOHMARKT REWE ( Center ) SCHENEFELD Friedr. - Ebert - Allee
DESCRIPTION:Flohmarkt REWE ( Center ) Schenefeld Friedrich - Ebert - Allee 3 - 11\nBeliebter Flohmarkt seit 1982\n\nhttps://eventfrog.ch/de/p/maerkte/flohmarkt/flohmarkt-rewe-center-schenefeld-friedr-ebert-allee-7451912544447416037.html
LOCATION:FLOHMARKT REWE ( Center ) SCHENEFELD Friedrich - Ebert - Allee 3 - 11
GEO:53.608647;9.841089
URL:https://eventfrog.ch/de/p/maerkte/flohmarkt/flohmarkt-rewe-center-schenefeld-friedr-ebert-allee-7451912544447416037.html
END:VEVENT
BEGIN:VEVENT
UID:20260425T155826Z-7451912544535496523@eventfrog.ch
DTSTAMP:20260425T155826Z
DTSTART:20260927T060000Z
DTEND:20260927T130000Z
SUMMARY:FLOHMARKT REWE ( Center ) SCHENEFELD Friedr. - Ebert - Allee
DESCRIPTION:Flohmarkt REWE ( Center ) Schenefeld Friedrich - Ebert - Allee 3 - 11\nBeliebter Flohmarkt seit 1982\n\nhttps://eventfrog.ch/de/p/maerkte/flohmarkt/flohmarkt-rewe-center-schenefeld-friedr-ebert-allee-7451912544535496523.html
LOCATION:FLOHMARKT REWE ( Center ) SCHENEFELD Friedrich - Ebert - Allee 3 - 11
GEO:53.608647;9.841089
URL:https://eventfrog.ch/de/p/maerkte/flohmarkt/flohmarkt-rewe-center-schenefeld-friedr-ebert-allee-7451912544535496523.html
END:VEVENT
BEGIN:VEVENT
UID:20260425T155826Z-7451912544631965516@eventfrog.ch
DTSTAMP:20260425T155826Z
DTSTART:20261101T070000Z
DTEND:20261101T140000Z
SUMMARY:FLOHMARKT REWE ( Center ) SCHENEFELD Friedr. - Ebert - Allee
DESCRIPTION:Flohmarkt REWE ( Center ) Schenefeld Friedrich - Ebert - Allee 3 - 11\nBeliebter Flohmarkt seit 1982\n\nhttps://eventfrog.ch/de/p/maerkte/flohmarkt/flohmarkt-rewe-center-schenefeld-friedr-ebert-allee-7451912544631965516.html
LOCATION:FLOHMARKT REWE ( Center ) SCHENEFELD Friedrich - Ebert - Allee 3 - 11
GEO:53.608647;9.841089
URL:https://eventfrog.ch/de/p/maerkte/flohmarkt/flohmarkt-rewe-center-schenefeld-friedr-ebert-allee-7451912544631965516.html
END:VEVENT
END:VCALENDAR