BEGIN:VCALENDAR
VERSION:2.0
PRODID:EVENTFROG//EVENTGROUP//ICAL
BEGIN:VEVENT
UID:20260424T035346Z-7451999015661500916@eventfrog.ch
DTSTAMP:20260424T035346Z
DTSTART:20261205T183000Z
DTEND:20261205T200000Z
SUMMARY:Candlelight-Konzert
DESCRIPTION:Ein weiteres Konzert unserer Candlelight-Serie: berührend und schön, Balsam für die Seele.\n\nhttps://eventfrog.ch/de/p/konzerte/chor/candlelight-konzert-7451999015661500916.html
LOCATION:Reformierte Kirche Pratteln
GEO:47.516777;7.695274
URL:https://eventfrog.ch/de/p/konzerte/chor/candlelight-konzert-7451999015661500916.html
END:VEVENT
BEGIN:VEVENT
UID:20260424T035346Z-7451999211321615745@eventfrog.ch
DTSTAMP:20260424T035346Z
DTSTART:20261206T160000Z
DTEND:20261206T173000Z
SUMMARY:Candlelight-Konzert
DESCRIPTION:Ein weiteres Konzert unserer Candlelight-Serie: berührend und schön, Balsam für die Seele.\n\nhttps://eventfrog.ch/de/p/konzerte/chor/candlelight-konzert-7451999211321615745.html
LOCATION:Reformierte Kirche Pratteln
GEO:47.516777;7.695274
URL:https://eventfrog.ch/de/p/konzerte/chor/candlelight-konzert-7451999211321615745.html
END:VEVENT
END:VCALENDAR